BEGIN:VCALENDAR
VERSION:2.0
PRODID:-//Agrupació Parroquial Mollerussa - ECPv6.14.0//NONSGML v1.0//EN
CALSCALE:GREGORIAN
METHOD:PUBLISH
X-ORIGINAL-URL:https://agrupacioparroquialmollerussa.cat
X-WR-CALDESC:Esdeveniments per Agrupació Parroquial Mollerussa
REFRESH-INTERVAL;VALUE=DURATION:PT1H
X-Robots-Tag:noindex
X-PUBLISHED-TTL:PT1H
BEGIN:VTIMEZONE
TZID:UTC
BEGIN:STANDARD
TZOFFSETFROM:+0000
TZOFFSETTO:+0000
TZNAME:UTC
DTSTART:20230101T000000
END:STANDARD
END:VTIMEZONE
BEGIN:VEVENT
DTSTART;TZID=UTC:20230402T120000
DTEND;TZID=UTC:20230402T130000
DTSTAMP:20260424T053355
CREATED:20230328T095818Z
LAST-MODIFIED:20230328T100434Z
UID:6563-1680436800-1680440400@agrupacioparroquialmollerussa.cat
SUMMARY:Missa Diumenge de Rams
DESCRIPTION:
URL:https://agrupacioparroquialmollerussa.cat/calendari/missa-diumenge-de-rams/
LOCATION:El Palau
CATEGORIES:Celebracions,El Palau d'Anglesola
END:VEVENT
BEGIN:VEVENT
DTSTART;TZID=UTC:20230405T190000
DTEND;TZID=UTC:20230405T200000
DTSTAMP:20260424T053355
CREATED:20230330T145257Z
LAST-MODIFIED:20230330T145257Z
UID:6589-1680721200-1680724800@agrupacioparroquialmollerussa.cat
SUMMARY:Celebració de la Penitència - Perdó
DESCRIPTION:
URL:https://agrupacioparroquialmollerussa.cat/calendari/celebracio-de-la-penitencia-perdo/
LOCATION:El Palau
CATEGORIES:Celebracions,El Palau d'Anglesola
END:VEVENT
BEGIN:VEVENT
DTSTART;TZID=UTC:20230406T200000
DTEND;TZID=UTC:20230406T220000
DTSTAMP:20260424T053355
CREATED:20230330T145857Z
LAST-MODIFIED:20230330T145857Z
UID:6597-1680811200-1680818400@agrupacioparroquialmollerussa.cat
SUMMARY:Dijous Sant\, "Cena del Senyor" i Vetlla al Santíssim
DESCRIPTION:
URL:https://agrupacioparroquialmollerussa.cat/calendari/dijous-sant-cena-del-senyor-i-vetlla-al-santissim/
LOCATION:El Palau
CATEGORIES:Celebracions,El Palau d'Anglesola
END:VEVENT
BEGIN:VEVENT
DTSTART;TZID=UTC:20230406T200000
DTEND;TZID=UTC:20230406T220000
DTSTAMP:20260424T053355
CREATED:20230405T092715Z
LAST-MODIFIED:20230405T092715Z
UID:6639-1680811200-1680818400@agrupacioparroquialmollerussa.cat
SUMMARY:El Palau D'Anglesola\, Cena del Senyor\, Missa i Vetlla al Santíssim
DESCRIPTION:
URL:https://agrupacioparroquialmollerussa.cat/calendari/el-palau-danglesola-cena-del-senyor-missa-i-vetlla-al-santissim/
LOCATION:El Palau
CATEGORIES:Celebracions,El Palau d'Anglesola
END:VEVENT
BEGIN:VEVENT
DTSTART;TZID=UTC:20230407T090000
DTEND;TZID=UTC:20230407T103000
DTSTAMP:20260424T053355
CREATED:20230405T094006Z
LAST-MODIFIED:20230405T094006Z
UID:6653-1680858000-1680863400@agrupacioparroquialmollerussa.cat
SUMMARY:El Palau D'Anglesola\, Divendres Sant\, Passió del Senyor\, Viacrucis
DESCRIPTION:
URL:https://agrupacioparroquialmollerussa.cat/calendari/el-palau-danglesola-divendres-sant-passio-del-senyor-viacrucis/
LOCATION:El Palau
CATEGORIES:Celebracions,El Palau d'Anglesola
END:VEVENT
BEGIN:VEVENT
DTSTART;TZID=UTC:20230407T190000
DTEND;TZID=UTC:20230407T200000
DTSTAMP:20260424T053355
CREATED:20230405T094207Z
LAST-MODIFIED:20230405T094207Z
UID:6655-1680894000-1680897600@agrupacioparroquialmollerussa.cat
SUMMARY:Divendres Sant\, Passió del Senyor\, Celebració Litúrgica
DESCRIPTION:
URL:https://agrupacioparroquialmollerussa.cat/calendari/divendres-sant-passio-del-senyor-celebracio-liturgica/
LOCATION:El Palau
CATEGORIES:Celebracions,El Palau d'Anglesola
END:VEVENT
BEGIN:VEVENT
DTSTART;TZID=UTC:20230408T210000
DTEND;TZID=UTC:20230408T230000
DTSTAMP:20260424T053355
CREATED:20230405T100433Z
LAST-MODIFIED:20230405T100433Z
UID:6677-1680987600-1680994800@agrupacioparroquialmollerussa.cat
SUMMARY:El Palau d'Anglesola\, Vetlla Pasqual
DESCRIPTION:
URL:https://agrupacioparroquialmollerussa.cat/calendari/el-palau-danglesola-vetlla-pasqual/
LOCATION:El Palau
CATEGORIES:Celebracions,El Palau d'Anglesola
END:VEVENT
BEGIN:VEVENT
DTSTART;TZID=UTC:20230409T120000
DTEND;TZID=UTC:20230409T133000
DTSTAMP:20260424T053355
CREATED:20230405T100844Z
LAST-MODIFIED:20230405T100844Z
UID:6683-1681041600-1681047000@agrupacioparroquialmollerussa.cat
SUMMARY:El Palau d'Anglesola\, Diumenge de Pasqua
DESCRIPTION:
URL:https://agrupacioparroquialmollerussa.cat/calendari/el-palau-danglesola-diumenge-de-pasqua/
LOCATION:El Palau
CATEGORIES:Celebracions,El Palau d'Anglesola
END:VEVENT
BEGIN:VEVENT
DTSTART;TZID=UTC:20230427T180000
DTEND;TZID=UTC:20230427T190000
DTSTAMP:20260424T053355
CREATED:20230427T150229Z
LAST-MODIFIED:20230427T150229Z
UID:6786-1682618400-1682622000@agrupacioparroquialmollerussa.cat
SUMMARY:El Palau d'Anglesola\, Ofrena Floral i Missa en honor de la Mare de Déu de Montserrat
DESCRIPTION:
URL:https://agrupacioparroquialmollerussa.cat/calendari/el-palau-danglesola-ofrena-floral-i-missa-en-honor-de-la-mare-de-deu-de-montserrat/
LOCATION:El Palau
CATEGORIES:Celebracions,El Palau d'Anglesola
END:VEVENT
END:VCALENDAR