BEGIN:VCALENDAR
VERSION:2.0
PRODID:-//Agrupació Parroquial Mollerussa - ECPv6.14.0//NONSGML v1.0//EN
CALSCALE:GREGORIAN
METHOD:PUBLISH
X-ORIGINAL-URL:https://agrupacioparroquialmollerussa.cat
X-WR-CALDESC:Esdeveniments per Agrupació Parroquial Mollerussa
REFRESH-INTERVAL;VALUE=DURATION:PT1H
X-Robots-Tag:noindex
X-PUBLISHED-TTL:PT1H
BEGIN:VTIMEZONE
TZID:UTC
BEGIN:STANDARD
TZOFFSETFROM:+0000
TZOFFSETTO:+0000
TZNAME:UTC
DTSTART:20230101T000000
END:STANDARD
END:VTIMEZONE
BEGIN:VEVENT
DTSTART;TZID=UTC:20231224T223000
DTEND;TZID=UTC:20231224T233000
DTSTAMP:20260423T194719
CREATED:20231220T082521Z
LAST-MODIFIED:20231220T082521Z
UID:7986-1703457000-1703460600@agrupacioparroquialmollerussa.cat
SUMMARY:El Palau d'Anglesola\, Missa del Gall
DESCRIPTION:
URL:https://agrupacioparroquialmollerussa.cat/calendari/el-palau-danglesola-missa-del-gall/
LOCATION:El Palau
CATEGORIES:Celebracions,El Palau d'Anglesola
END:VEVENT
BEGIN:VEVENT
DTSTART;TZID=UTC:20231225T120000
DTEND;TZID=UTC:20231225T130000
DTSTAMP:20260423T194719
CREATED:20231220T083902Z
LAST-MODIFIED:20231220T083902Z
UID:8001-1703505600-1703509200@agrupacioparroquialmollerussa.cat
SUMMARY:El Palau d'Anglesola\, Nadal de Nostre Senyor Jesucrist
DESCRIPTION:
URL:https://agrupacioparroquialmollerussa.cat/calendari/el-palau-danglesola-nadal-de-nostre-senyor-jesucrist/
LOCATION:El Palau
CATEGORIES:Celebracions,El Palau d'Anglesola
END:VEVENT
BEGIN:VEVENT
DTSTART;TZID=UTC:20231226T103000
DTEND;TZID=UTC:20231226T113000
DTSTAMP:20260423T194719
CREATED:20231220T084245Z
LAST-MODIFIED:20231220T084245Z
UID:8011-1703586600-1703590200@agrupacioparroquialmollerussa.cat
SUMMARY:El Palau\, Ca la Cileta\, Sant Esteve
DESCRIPTION:
URL:https://agrupacioparroquialmollerussa.cat/calendari/el-palau-ca-la-cileta-sant-esteve/
LOCATION:El Palau
CATEGORIES:Celebracions,El Palau d'Anglesola
END:VEVENT
BEGIN:VEVENT
DTSTART;TZID=UTC:20231231T120000
DTEND;TZID=UTC:20231231T130000
DTSTAMP:20260423T194719
CREATED:20231220T090824Z
LAST-MODIFIED:20231220T090824Z
UID:8038-1704024000-1704027600@agrupacioparroquialmollerussa.cat
SUMMARY:El Palau d'Anglesola
DESCRIPTION:
URL:https://agrupacioparroquialmollerussa.cat/calendari/el-palau-danglesola/
LOCATION:El Palau
CATEGORIES:Celebracions,El Palau d'Anglesola
END:VEVENT
END:VCALENDAR