BEGIN:VCALENDAR
VERSION:2.0
PRODID:-//Agrupació Parroquial Mollerussa - ECPv6.14.0//NONSGML v1.0//EN
CALSCALE:GREGORIAN
METHOD:PUBLISH
X-WR-CALNAME:Agrupació Parroquial Mollerussa
X-ORIGINAL-URL:https://agrupacioparroquialmollerussa.cat
X-WR-CALDESC:Esdeveniments per Agrupació Parroquial Mollerussa
REFRESH-INTERVAL;VALUE=DURATION:PT1H
X-Robots-Tag:noindex
X-PUBLISHED-TTL:PT1H
BEGIN:VTIMEZONE
TZID:UTC
BEGIN:STANDARD
TZOFFSETFROM:+0000
TZOFFSETTO:+0000
TZNAME:UTC
DTSTART:20240101T000000
END:STANDARD
END:VTIMEZONE
BEGIN:VEVENT
DTSTART;TZID=UTC:20240101T120000
DTEND;TZID=UTC:20240101T130000
DTSTAMP:20260423T182225
CREATED:20231221T113027Z
LAST-MODIFIED:20231221T113027Z
UID:8050-1704110400-1704114000@agrupacioparroquialmollerussa.cat
SUMMARY:El Palau d'Anglesola\, Santa Maria
DESCRIPTION:
URL:https://agrupacioparroquialmollerussa.cat/calendari/el-palau-danglesola-santa-maria/
LOCATION:El Palau
CATEGORIES:Celebracions,El Palau d'Anglesola
END:VEVENT
BEGIN:VEVENT
DTSTART;TZID=UTC:20240106T120000
DTEND;TZID=UTC:20240106T130000
DTSTAMP:20260423T182225
CREATED:20231221T151121Z
LAST-MODIFIED:20231221T151121Z
UID:8068-1704542400-1704546000@agrupacioparroquialmollerussa.cat
SUMMARY:El Palau d'Anglesola\, Reis
DESCRIPTION:
URL:https://agrupacioparroquialmollerussa.cat/calendari/el-palau-danglesola-reis/
LOCATION:El Palau
CATEGORIES:Celebracions,El Palau d'Anglesola
END:VEVENT
BEGIN:VEVENT
DTSTART;TZID=UTC:20240107T120000
DTEND;TZID=UTC:20240107T130000
DTSTAMP:20260423T182225
CREATED:20231221T151231Z
LAST-MODIFIED:20231221T151231Z
UID:8070-1704628800-1704632400@agrupacioparroquialmollerussa.cat
SUMMARY:El Palau d'Anglesola\, Baptisme del Senyor
DESCRIPTION:
URL:https://agrupacioparroquialmollerussa.cat/calendari/el-palau-danglesola-baptisme-del-senyor/
LOCATION:El Palau
CATEGORIES:Celebracions,El Palau d'Anglesola
END:VEVENT
END:VCALENDAR