BEGIN:VCALENDAR
VERSION:2.0
PRODID:-//Agrupació Parroquial Mollerussa - ECPv6.14.0//NONSGML v1.0//EN
CALSCALE:GREGORIAN
METHOD:PUBLISH
X-WR-CALNAME:Agrupació Parroquial Mollerussa
X-ORIGINAL-URL:https://agrupacioparroquialmollerussa.cat
X-WR-CALDESC:Esdeveniments per Agrupació Parroquial Mollerussa
REFRESH-INTERVAL;VALUE=DURATION:PT1H
X-Robots-Tag:noindex
X-PUBLISHED-TTL:PT1H
BEGIN:VTIMEZONE
TZID:UTC
BEGIN:STANDARD
TZOFFSETFROM:+0000
TZOFFSETTO:+0000
TZNAME:UTC
DTSTART:20240101T000000
END:STANDARD
END:VTIMEZONE
BEGIN:VEVENT
DTSTART;TZID=UTC:20240324T120000
DTEND;TZID=UTC:20240324T130000
DTSTAMP:20260423T152348
CREATED:20240321T153420Z
LAST-MODIFIED:20240321T153420Z
UID:8384-1711281600-1711285200@agrupacioparroquialmollerussa.cat
SUMMARY:Diumenge de Rams
DESCRIPTION:
URL:https://agrupacioparroquialmollerussa.cat/calendari/diumenge-de-rams-16/
LOCATION:El Palau
CATEGORIES:Celebracions,El Palau d'Anglesola
END:VEVENT
BEGIN:VEVENT
DTSTART;TZID=UTC:20240327T190000
DTEND;TZID=UTC:20240327T200000
DTSTAMP:20260423T152348
CREATED:20240321T153925Z
LAST-MODIFIED:20240321T153925Z
UID:8394-1711566000-1711569600@agrupacioparroquialmollerussa.cat
SUMMARY:Celebració del Perdó
DESCRIPTION:
URL:https://agrupacioparroquialmollerussa.cat/calendari/celebracio-del-perdo-5/
LOCATION:El Palau
CATEGORIES:Celebracions,El Palau d'Anglesola
END:VEVENT
BEGIN:VEVENT
DTSTART;TZID=UTC:20240328T193000
DTEND;TZID=UTC:20240328T210000
DTSTAMP:20260423T152348
CREATED:20240321T154652Z
LAST-MODIFIED:20240321T154652Z
UID:8404-1711654200-1711659600@agrupacioparroquialmollerussa.cat
SUMMARY:Dijous Sant\, Cena del Senyor\, després Vetlla al Santissim
DESCRIPTION:
URL:https://agrupacioparroquialmollerussa.cat/calendari/dijous-sant-cena-del-senyor-despres-vetlla-al-santissim-3/
LOCATION:El Palau
CATEGORIES:Celebracions,El Palau d'Anglesola
END:VEVENT
BEGIN:VEVENT
DTSTART;TZID=UTC:20240329T090000
DTEND;TZID=UTC:20240329T093000
DTSTAMP:20260423T152348
CREATED:20240321T155550Z
LAST-MODIFIED:20240321T155550Z
UID:8420-1711702800-1711704600@agrupacioparroquialmollerussa.cat
SUMMARY:Viacrucis
DESCRIPTION:
URL:https://agrupacioparroquialmollerussa.cat/calendari/viacrucis-6/
LOCATION:El Palau
CATEGORIES:Celebracions,El Palau d'Anglesola
END:VEVENT
BEGIN:VEVENT
DTSTART;TZID=UTC:20240329T193000
DTEND;TZID=UTC:20240329T203000
DTSTAMP:20260423T152348
CREATED:20240321T155637Z
LAST-MODIFIED:20240321T155637Z
UID:8422-1711740600-1711744200@agrupacioparroquialmollerussa.cat
SUMMARY:Divendres Sant\, Passió del Senyor\, Celebració Litúrgica
DESCRIPTION:
URL:https://agrupacioparroquialmollerussa.cat/calendari/divendres-sant-passio-del-senyor-celebracio-liturgica-5/
LOCATION:El Palau
CATEGORIES:Celebracions,El Palau d'Anglesola
END:VEVENT
BEGIN:VEVENT
DTSTART;TZID=UTC:20240330T210000
DTEND;TZID=UTC:20240330T223000
DTSTAMP:20260423T152348
CREATED:20240321T160222Z
LAST-MODIFIED:20240321T160222Z
UID:8434-1711832400-1711837800@agrupacioparroquialmollerussa.cat
SUMMARY:Vetlla Pasqual
DESCRIPTION:
URL:https://agrupacioparroquialmollerussa.cat/calendari/vetlla-pasqual-4/
LOCATION:El Palau
CATEGORIES:Celebracions,El Palau d'Anglesola
END:VEVENT
BEGIN:VEVENT
DTSTART;TZID=UTC:20240331T120000
DTEND;TZID=UTC:20240331T130000
DTSTAMP:20260423T152348
CREATED:20240321T161226Z
LAST-MODIFIED:20240321T161226Z
UID:8450-1711886400-1711890000@agrupacioparroquialmollerussa.cat
SUMMARY:Diumenge de Pasqua
DESCRIPTION:
URL:https://agrupacioparroquialmollerussa.cat/calendari/diumenge-de-pasqua-14/
LOCATION:El Palau
CATEGORIES:Celebracions,El Palau d'Anglesola
END:VEVENT
END:VCALENDAR