BEGIN:VCALENDAR
VERSION:2.0
PRODID:-//Agrupació Parroquial Mollerussa - ECPv6.14.0//NONSGML v1.0//EN
CALSCALE:GREGORIAN
METHOD:PUBLISH
X-ORIGINAL-URL:https://agrupacioparroquialmollerussa.cat
X-WR-CALDESC:Esdeveniments per Agrupació Parroquial Mollerussa
REFRESH-INTERVAL;VALUE=DURATION:PT1H
X-Robots-Tag:noindex
X-PUBLISHED-TTL:PT1H
BEGIN:VTIMEZONE
TZID:UTC
BEGIN:STANDARD
TZOFFSETFROM:+0000
TZOFFSETTO:+0000
TZNAME:UTC
DTSTART:20240101T000000
END:STANDARD
END:VTIMEZONE
BEGIN:VEVENT
DTSTART;TZID=UTC:20240815T120000
DTEND;TZID=UTC:20240815T130000
DTSTAMP:20260421T141352
CREATED:20240710T155315Z
LAST-MODIFIED:20240710T160345Z
UID:8868-1723723200-1723726800@agrupacioparroquialmollerussa.cat
SUMMARY:El Palau d'Anglesola\, Mare de Déu
DESCRIPTION:
URL:https://agrupacioparroquialmollerussa.cat/calendari/el-palau-danglesola-mare-de-deu/
LOCATION:El Palau
CATEGORIES:Celebracions,El Palau d'Anglesola
END:VEVENT
BEGIN:VEVENT
DTSTART;TZID=UTC:20240816T201500
DTEND;TZID=UTC:20240816T213000
DTSTAMP:20260421T141352
CREATED:20240710T155800Z
LAST-MODIFIED:20240710T155800Z
UID:8876-1723839300-1723843800@agrupacioparroquialmollerussa.cat
SUMMARY:El Palau d'Anglesola\, Missa ermita Sant Roc
DESCRIPTION:
URL:https://agrupacioparroquialmollerussa.cat/calendari/el-palau-danglesola-missa-ermita-sant-roc/
LOCATION:El Palau
CATEGORIES:Celebracions,El Palau d'Anglesola
END:VEVENT
BEGIN:VEVENT
DTSTART;TZID=UTC:20240829T120000
DTEND;TZID=UTC:20240829T130000
DTSTAMP:20260421T141352
CREATED:20240710T160026Z
LAST-MODIFIED:20240710T160026Z
UID:8880-1724932800-1724936400@agrupacioparroquialmollerussa.cat
SUMMARY:Palau d'Anglesola\, Festa Major
DESCRIPTION:
URL:https://agrupacioparroquialmollerussa.cat/calendari/palau-danglesola-festa-major/
LOCATION:El Palau
CATEGORIES:Celebracions,El Palau d'Anglesola
END:VEVENT
END:VCALENDAR