BEGIN:VCALENDAR
VERSION:2.0
PRODID:-//Agrupació Parroquial Mollerussa - ECPv6.14.0//NONSGML v1.0//EN
CALSCALE:GREGORIAN
METHOD:PUBLISH
X-ORIGINAL-URL:https://agrupacioparroquialmollerussa.cat
X-WR-CALDESC:Esdeveniments per Agrupació Parroquial Mollerussa
REFRESH-INTERVAL;VALUE=DURATION:PT1H
X-Robots-Tag:noindex
X-PUBLISHED-TTL:PT1H
BEGIN:VTIMEZONE
TZID:UTC
BEGIN:STANDARD
TZOFFSETFROM:+0000
TZOFFSETTO:+0000
TZNAME:UTC
DTSTART:20250101T000000
END:STANDARD
END:VTIMEZONE
BEGIN:VEVENT
DTSTART;TZID=UTC:20250413T120000
DTEND;TZID=UTC:20250413T130000
DTSTAMP:20260421T004957
CREATED:20250404T073613Z
LAST-MODIFIED:20250404T073613Z
UID:9950-1744545600-1744549200@agrupacioparroquialmollerussa.cat
SUMMARY:Palau d'Anglesola\, Diumenge de Rams
DESCRIPTION:
URL:https://agrupacioparroquialmollerussa.cat/calendari/palau-danglesola-diumenge-de-rams/
LOCATION:El Palau
CATEGORIES:Celebracions,El Palau d'Anglesola
END:VEVENT
BEGIN:VEVENT
DTSTART;TZID=UTC:20250416T183000
DTEND;TZID=UTC:20250416T193000
DTSTAMP:20260421T004957
CREATED:20250404T074538Z
LAST-MODIFIED:20250404T074538Z
UID:9968-1744828200-1744831800@agrupacioparroquialmollerussa.cat
SUMMARY:Palau d'Anglesola\, Celebració del Perdó
DESCRIPTION:
URL:https://agrupacioparroquialmollerussa.cat/calendari/palau-danglesola-celebracio-del-perdo/
LOCATION:El Palau
CATEGORIES:Agrupació Parroquial,El Palau d'Anglesola
END:VEVENT
BEGIN:VEVENT
DTSTART;TZID=UTC:20250417T200000
DTEND;TZID=UTC:20250417T213000
DTSTAMP:20260421T004957
CREATED:20250404T075503Z
LAST-MODIFIED:20260324T153249Z
UID:9982-1744920000-1744925400@agrupacioparroquialmollerussa.cat
SUMMARY:Palau Anglesola\, Dijous Sant\, Cena del Senyor\, després Vetlla al Santissim
DESCRIPTION:
URL:https://agrupacioparroquialmollerussa.cat/calendari/palau-anglesola-dijous-sant-cena-del-senyor-despres-vetlla-al-santissim/
LOCATION:El Palau
CATEGORIES:Celebracions,El Palau d'Anglesola
END:VEVENT
BEGIN:VEVENT
DTSTART;TZID=UTC:20250418T090000
DTEND;TZID=UTC:20250418T100000
DTSTAMP:20260421T004957
CREATED:20250404T080400Z
LAST-MODIFIED:20250404T080400Z
UID:9996-1744966800-1744970400@agrupacioparroquialmollerussa.cat
SUMMARY:Palau Anglesola\, Divendres Sant\, Passió del Senyor\, Viacrucis
DESCRIPTION:
URL:https://agrupacioparroquialmollerussa.cat/calendari/palau-anglesola-divendres-sant-passio-del-senyor-viacrucis/
LOCATION:El Palau
CATEGORIES:Celebracions,El Palau d'Anglesola
END:VEVENT
BEGIN:VEVENT
DTSTART;TZID=UTC:20250418T190000
DTEND;TZID=UTC:20250418T200000
DTSTAMP:20260421T004957
CREATED:20250404T080525Z
LAST-MODIFIED:20250404T080525Z
UID:9998-1745002800-1745006400@agrupacioparroquialmollerussa.cat
SUMMARY:Palau Anglesola\, Divendres Sant\, Passió del Senyor\, Celebració Litúrgica
DESCRIPTION:
URL:https://agrupacioparroquialmollerussa.cat/calendari/palau-anglesola-divendres-sant-passio-del-senyor-celebracio-liturgica/
LOCATION:El Palau
CATEGORIES:Celebracions,El Palau d'Anglesola
END:VEVENT
BEGIN:VEVENT
DTSTART;TZID=UTC:20250419T210000
DTEND;TZID=UTC:20250419T230000
DTSTAMP:20260421T004957
CREATED:20250404T082008Z
LAST-MODIFIED:20250404T082008Z
UID:10020-1745096400-1745103600@agrupacioparroquialmollerussa.cat
SUMMARY:Palau Anglesola\, Vetlla Pasqual
DESCRIPTION:
URL:https://agrupacioparroquialmollerussa.cat/calendari/palau-anglesola-vetlla-pasqual/
LOCATION:El Palau
CATEGORIES:Celebracions,El Palau d'Anglesola
END:VEVENT
BEGIN:VEVENT
DTSTART;TZID=UTC:20250420T120000
DTEND;TZID=UTC:20250420T130000
DTSTAMP:20260421T004957
CREATED:20250404T082352Z
LAST-MODIFIED:20250404T082352Z
UID:10026-1745150400-1745154000@agrupacioparroquialmollerussa.cat
SUMMARY:Palau Anglesola\, Diumenge de Pasqua
DESCRIPTION:
URL:https://agrupacioparroquialmollerussa.cat/calendari/palau-anglesola-diumenge-de-pasqua/
LOCATION:El Palau
CATEGORIES:Celebracions,El Palau d'Anglesola
END:VEVENT
END:VCALENDAR