BEGIN:VCALENDAR
VERSION:2.0
PRODID:-//Agrupació Parroquial Mollerussa - ECPv6.14.0//NONSGML v1.0//EN
CALSCALE:GREGORIAN
METHOD:PUBLISH
X-WR-CALNAME:Agrupació Parroquial Mollerussa
X-ORIGINAL-URL:https://agrupacioparroquialmollerussa.cat
X-WR-CALDESC:Esdeveniments per Agrupació Parroquial Mollerussa
REFRESH-INTERVAL;VALUE=DURATION:PT1H
X-Robots-Tag:noindex
X-PUBLISHED-TTL:PT1H
BEGIN:VTIMEZONE
TZID:UTC
BEGIN:STANDARD
TZOFFSETFROM:+0000
TZOFFSETTO:+0000
TZNAME:UTC
DTSTART:20250101T000000
END:STANDARD
END:VTIMEZONE
BEGIN:VEVENT
DTSTART;TZID=UTC:20250405T180000
DTEND;TZID=UTC:20250405T190000
DTSTAMP:20260425T153323
CREATED:20250404T074641Z
LAST-MODIFIED:20250404T074641Z
UID:9970-1743876000-1743879600@agrupacioparroquialmollerussa.cat
SUMMARY:Fondarella\, Celebració del Perdó
DESCRIPTION:
URL:https://agrupacioparroquialmollerussa.cat/calendari/fondarella-celebracio-del-perdo/
LOCATION:Fondarella
CATEGORIES:Celebracions,Fondarella
END:VEVENT
BEGIN:VEVENT
DTSTART;TZID=UTC:20250412T180000
DTEND;TZID=UTC:20250412T190000
DTSTAMP:20260425T153323
CREATED:20250404T073711Z
LAST-MODIFIED:20250404T073711Z
UID:9952-1744480800-1744484400@agrupacioparroquialmollerussa.cat
SUMMARY:Fondarella\, Diumenge de Rams
DESCRIPTION:
URL:https://agrupacioparroquialmollerussa.cat/calendari/fondarella-diumenge-de-rams/
LOCATION:Fondarella
CATEGORIES:Celebracions,Fondarella
END:VEVENT
BEGIN:VEVENT
DTSTART;TZID=UTC:20250418T180000
DTEND;TZID=UTC:20250418T190000
DTSTAMP:20260425T153323
CREATED:20250404T080701Z
LAST-MODIFIED:20250404T080701Z
UID:10000-1744999200-1745002800@agrupacioparroquialmollerussa.cat
SUMMARY:Fondarella\, Palau Anglesola\, Divendres Sant\, Passió del Senyor\, Celebració Litúrgica
DESCRIPTION:
URL:https://agrupacioparroquialmollerussa.cat/calendari/fondarella-palau-anglesola-divendres-sant-passio-del-senyor-celebracio-liturgica/
LOCATION:Fondarella
CATEGORIES:Celebracions,Fondarella
END:VEVENT
BEGIN:VEVENT
DTSTART;TZID=UTC:20250420T120000
DTEND;TZID=UTC:20250420T130000
DTSTAMP:20260425T153323
CREATED:20250404T082436Z
LAST-MODIFIED:20250404T082436Z
UID:10028-1745150400-1745154000@agrupacioparroquialmollerussa.cat
SUMMARY:Fondarella\, Diumenge de Pasqua
DESCRIPTION:
URL:https://agrupacioparroquialmollerussa.cat/calendari/fondarella-diumenge-de-pasqua-2/
LOCATION:Fondarella
CATEGORIES:Celebracions,Fondarella
END:VEVENT
END:VCALENDAR