BEGIN:VCALENDAR
VERSION:2.0
PRODID:-//Agrupació Parroquial Mollerussa - ECPv6.14.0//NONSGML v1.0//EN
CALSCALE:GREGORIAN
METHOD:PUBLISH
X-ORIGINAL-URL:https://agrupacioparroquialmollerussa.cat
X-WR-CALDESC:Esdeveniments per Agrupació Parroquial Mollerussa
REFRESH-INTERVAL;VALUE=DURATION:PT1H
X-Robots-Tag:noindex
X-PUBLISHED-TTL:PT1H
BEGIN:VTIMEZONE
TZID:UTC
BEGIN:STANDARD
TZOFFSETFROM:+0000
TZOFFSETTO:+0000
TZNAME:UTC
DTSTART:20250101T000000
END:STANDARD
END:VTIMEZONE
BEGIN:VEVENT
DTSTART;TZID=UTC:20251231T180000
DTEND;TZID=UTC:20251231T190000
DTSTAMP:20260423T080014
CREATED:20251216T170117Z
LAST-MODIFIED:20251216T170117Z
UID:10751-1767204000-1767207600@agrupacioparroquialmollerussa.cat
SUMMARY:Fondarella\, vigilia Solemnitat de la Mare de Déu
DESCRIPTION:
URL:https://agrupacioparroquialmollerussa.cat/calendari/fondarella-vigilia-solemnitat-de-la-mare-de-deu-2/
LOCATION:Fondarella
CATEGORIES:Celebracions,Fondarella
END:VEVENT
END:VCALENDAR