BEGIN:VCALENDAR
VERSION:2.0
PRODID:-//Agrupació Parroquial Mollerussa - ECPv6.14.0//NONSGML v1.0//EN
CALSCALE:GREGORIAN
METHOD:PUBLISH
X-ORIGINAL-URL:https://agrupacioparroquialmollerussa.cat
X-WR-CALDESC:Esdeveniments per Agrupació Parroquial Mollerussa
REFRESH-INTERVAL;VALUE=DURATION:PT1H
X-Robots-Tag:noindex
X-PUBLISHED-TTL:PT1H
BEGIN:VTIMEZONE
TZID:UTC
BEGIN:STANDARD
TZOFFSETFROM:+0000
TZOFFSETTO:+0000
TZNAME:UTC
DTSTART:20260101T000000
END:STANDARD
END:VTIMEZONE
BEGIN:VEVENT
DTSTART;TZID=UTC:20260321T180000
DTEND;TZID=UTC:20260321T190000
DTSTAMP:20260421T095451
CREATED:20260324T152609Z
LAST-MODIFIED:20260324T152609Z
UID:11058-1774116000-1774119600@agrupacioparroquialmollerussa.cat
SUMMARY:Fondarella\, Missa i Celebració del Perdó
DESCRIPTION:
URL:https://agrupacioparroquialmollerussa.cat/calendari/fondarella-missa-i-celebracio-del-perdo/
LOCATION:Fondarella
CATEGORIES:Celebracions,Fondarella
END:VEVENT
BEGIN:VEVENT
DTSTART;TZID=UTC:20260328T180000
DTEND;TZID=UTC:20260328T190000
DTSTAMP:20260421T095451
CREATED:20260324T093018Z
LAST-MODIFIED:20260324T093136Z
UID:11040-1774720800-1774724400@agrupacioparroquialmollerussa.cat
SUMMARY:Fondarella\, Diumenge de Rams
DESCRIPTION:
URL:https://agrupacioparroquialmollerussa.cat/calendari/fondarella-diumenge-de-rams-2/
LOCATION:Fondarella
CATEGORIES:Celebracions,Fondarella
END:VEVENT
END:VCALENDAR