BEGIN:VCALENDAR
VERSION:2.0
PRODID:-//Agrupació Parroquial Mollerussa - ECPv6.14.0//NONSGML v1.0//EN
CALSCALE:GREGORIAN
METHOD:PUBLISH
X-ORIGINAL-URL:https://agrupacioparroquialmollerussa.cat
X-WR-CALDESC:Esdeveniments per Agrupació Parroquial Mollerussa
REFRESH-INTERVAL;VALUE=DURATION:PT1H
X-Robots-Tag:noindex
X-PUBLISHED-TTL:PT1H
BEGIN:VTIMEZONE
TZID:UTC
BEGIN:STANDARD
TZOFFSETFROM:+0000
TZOFFSETTO:+0000
TZNAME:UTC
DTSTART:20200101T000000
END:STANDARD
END:VTIMEZONE
BEGIN:VEVENT
DTSTART;TZID=UTC:20201119T200000
DTEND;TZID=UTC:20201119T210000
DTSTAMP:20260420T022015
CREATED:20201117T152206Z
LAST-MODIFIED:20201118T102152Z
UID:1328-1605816000-1605819600@agrupacioparroquialmollerussa.cat
SUMMARY:Pregària de la Comunitat\, Església Col·legi El Carme
DESCRIPTION:
URL:https://agrupacioparroquialmollerussa.cat/calendari/pregaria-de-la-comunitat/
LOCATION:Mollerussa
CATEGORIES:Mollerussa
END:VEVENT
BEGIN:VEVENT
DTSTART;TZID=UTC:20201124T170000
DTEND;TZID=UTC:20201124T180000
DTSTAMP:20260420T022015
CREATED:20201118T101612Z
LAST-MODIFIED:20201118T102248Z
UID:1335-1606237200-1606240800@agrupacioparroquialmollerussa.cat
SUMMARY:Pregària de la Comunitat per les Vocacions\, Capella del Santíssim
DESCRIPTION:
URL:https://agrupacioparroquialmollerussa.cat/calendari/pregaria-de-la-comunitat-per-les-vocacions-capella-del-santissim/
LOCATION:Mollerussa
CATEGORIES:Mollerussa
END:VEVENT
END:VCALENDAR