BEGIN:VCALENDAR
VERSION:2.0
PRODID:-//Agrupació Parroquial Mollerussa - ECPv6.14.0//NONSGML v1.0//EN
CALSCALE:GREGORIAN
METHOD:PUBLISH
X-WR-CALNAME:Agrupació Parroquial Mollerussa
X-ORIGINAL-URL:https://agrupacioparroquialmollerussa.cat
X-WR-CALDESC:Esdeveniments per Agrupació Parroquial Mollerussa
REFRESH-INTERVAL;VALUE=DURATION:PT1H
X-Robots-Tag:noindex
X-PUBLISHED-TTL:PT1H
BEGIN:VTIMEZONE
TZID:UTC
BEGIN:STANDARD
TZOFFSETFROM:+0000
TZOFFSETTO:+0000
TZNAME:UTC
DTSTART:20200101T000000
END:STANDARD
END:VTIMEZONE
BEGIN:VEVENT
DTSTART;TZID=UTC:20201205T170000
DTEND;TZID=UTC:20201205T200000
DTSTAMP:20260420T004531
CREATED:20201126T155135Z
LAST-MODIFIED:20201204T180821Z
UID:1404-1607187600-1607198400@agrupacioparroquialmollerussa.cat
SUMMARY:Reces\, Preparant l'Advent - Església del Carme
DESCRIPTION:
URL:https://agrupacioparroquialmollerussa.cat/calendari/reces-preparant-ladvent-esglesia-del-carme/
LOCATION:Mollerussa
CATEGORIES:Agrupació Parroquial,Mollerussa
END:VEVENT
BEGIN:VEVENT
DTSTART;TZID=UTC:20201217T203000
DTEND;TZID=UTC:20201217T213000
DTSTAMP:20260420T004531
CREATED:20201209T153726Z
LAST-MODIFIED:20201209T153726Z
UID:1487-1608237000-1608240600@agrupacioparroquialmollerussa.cat
SUMMARY:Pregària de la Comunitat\, Església Col·legi El Carme
DESCRIPTION:
URL:https://agrupacioparroquialmollerussa.cat/calendari/pregaria-de-la-comunitat-esglesia-collegi-el-carme/
LOCATION:Mollerussa
CATEGORIES:Mollerussa
END:VEVENT
BEGIN:VEVENT
DTSTART;TZID=UTC:20201218T190000
DTEND;TZID=UTC:20201218T200000
DTSTAMP:20260420T004531
CREATED:20201209T165810Z
LAST-MODIFIED:20201209T170242Z
UID:1493-1608318000-1608321600@agrupacioparroquialmollerussa.cat
SUMMARY:Formació per a catequistes de l'Agrupació
DESCRIPTION:A la sala de reunions de la rectoria de Mollerussa.
URL:https://agrupacioparroquialmollerussa.cat/calendari/formacio-per-a-catequistes-de-lagrupacio/
LOCATION:Mollerussa
CATEGORIES:Mollerussa
END:VEVENT
BEGIN:VEVENT
DTSTART;TZID=UTC:20201220T100000
DTEND;TZID=UTC:20201220T140000
DTSTAMP:20260420T004531
CREATED:20201209T170133Z
LAST-MODIFIED:20201209T170133Z
UID:1495-1608458400-1608472800@agrupacioparroquialmollerussa.cat
SUMMARY:Participació de la Catequesi a la Marató pel Covid 19
DESCRIPTION:Es muntarà una paradeta on farem “cagar el tió”. Estarà davant la rectoria\, pl. Manel Bertrand\, número 12
URL:https://agrupacioparroquialmollerussa.cat/calendari/participacio-de-la-catequesi-a-la-marato-pel-covid-19/
LOCATION:Mollerussa
CATEGORIES:Mollerussa
END:VEVENT
BEGIN:VEVENT
DTSTART;VALUE=DATE:20201227
DTEND;VALUE=DATE:20201228
DTSTAMP:20260420T004531
CREATED:20201020T155520Z
LAST-MODIFIED:20201204T180713Z
UID:927-1609027200-1609113599@agrupacioparroquialmollerussa.cat
SUMMARY:Festa de la Sagrada Família: celebració de les noces d’or\, argent i aniversari de casament
DESCRIPTION:
URL:https://agrupacioparroquialmollerussa.cat/calendari/festa-de-la-sagrada-familia-celebracio-de-les-noces-dor-argent-i-aniversari-de-casament/
CATEGORIES:Celebracions,El Palau d'Anglesola,Fondarella,Golmés,Miralcamp,Mollerussa,Sidamon,Vila-sana
END:VEVENT
END:VCALENDAR