BEGIN:VCALENDAR
VERSION:2.0
PRODID:-//Agrupació Parroquial Mollerussa - ECPv6.14.0//NONSGML v1.0//EN
CALSCALE:GREGORIAN
METHOD:PUBLISH
X-ORIGINAL-URL:https://agrupacioparroquialmollerussa.cat
X-WR-CALDESC:Esdeveniments per Agrupació Parroquial Mollerussa
REFRESH-INTERVAL;VALUE=DURATION:PT1H
X-Robots-Tag:noindex
X-PUBLISHED-TTL:PT1H
BEGIN:VTIMEZONE
TZID:UTC
BEGIN:STANDARD
TZOFFSETFROM:+0000
TZOFFSETTO:+0000
TZNAME:UTC
DTSTART:20210101T000000
END:STANDARD
END:VTIMEZONE
BEGIN:VEVENT
DTSTART;TZID=UTC:20210521T110000
DTEND;TZID=UTC:20210521T120000
DTSTAMP:20260419T170646
CREATED:20201020T154317Z
LAST-MODIFIED:20210506T101546Z
UID:875-1621594800-1621598400@agrupacioparroquialmollerussa.cat
SUMMARY:Missa Festa Major
DESCRIPTION:
URL:https://agrupacioparroquialmollerussa.cat/calendari/festa-major/
LOCATION:Mollerussa
CATEGORIES:Mollerussa
END:VEVENT
BEGIN:VEVENT
DTSTART;VALUE=DATE:20210522
DTEND;VALUE=DATE:20210523
DTSTAMP:20260419T170646
CREATED:20201020T154342Z
LAST-MODIFIED:20201112T112304Z
UID:877-1621641600-1621727999@agrupacioparroquialmollerussa.cat
SUMMARY:Santa Joaquima de Vedruna. Fundadora de les germanes Carmelites Vedruna
DESCRIPTION:
URL:https://agrupacioparroquialmollerussa.cat/calendari/santa-joaquima-de-vedruna-fundadora-de-les-germanes-carmelites-vedruna/
LOCATION:Mollerussa
CATEGORIES:Mollerussa
END:VEVENT
BEGIN:VEVENT
DTSTART;VALUE=DATE:20210523
DTEND;VALUE=DATE:20210524
DTSTAMP:20260419T170646
CREATED:20201020T154356Z
LAST-MODIFIED:20201222T083355Z
UID:879-1621728000-1621814399@agrupacioparroquialmollerussa.cat
SUMMARY:Festa de Pentecosta
DESCRIPTION:
URL:https://agrupacioparroquialmollerussa.cat/calendari/festa-de-pentecosta/
CATEGORIES:Celebracions,El Palau d'Anglesola,Fondarella,Golmés,Miralcamp,Mollerussa,Sidamon,Vila-sana
END:VEVENT
END:VCALENDAR