BEGIN:VCALENDAR
VERSION:2.0
PRODID:-//Agrupació Parroquial Mollerussa - ECPv6.14.0//NONSGML v1.0//EN
CALSCALE:GREGORIAN
METHOD:PUBLISH
X-ORIGINAL-URL:https://agrupacioparroquialmollerussa.cat
X-WR-CALDESC:Esdeveniments per Agrupació Parroquial Mollerussa
REFRESH-INTERVAL;VALUE=DURATION:PT1H
X-Robots-Tag:noindex
X-PUBLISHED-TTL:PT1H
BEGIN:VTIMEZONE
TZID:UTC
BEGIN:STANDARD
TZOFFSETFROM:+0000
TZOFFSETTO:+0000
TZNAME:UTC
DTSTART:20210101T000000
END:STANDARD
END:VTIMEZONE
BEGIN:VEVENT
DTSTART;TZID=UTC:20211219T120000
DTEND;TZID=UTC:20211219T130000
DTSTAMP:20260424T213257
CREATED:20211213T152053Z
LAST-MODIFIED:20211213T152759Z
UID:3833-1639915200-1639918800@agrupacioparroquialmollerussa.cat
SUMMARY:Celebració del Perdó (Església)
DESCRIPTION:
URL:https://agrupacioparroquialmollerussa.cat/calendari/celebracio-del-perdo-esglesia/
LOCATION:Sidamon
CATEGORIES:Celebracions,Sidamon
END:VEVENT
END:VCALENDAR