BEGIN:VCALENDAR
VERSION:2.0
PRODID:-//Agrupació Parroquial Mollerussa - ECPv6.14.0//NONSGML v1.0//EN
CALSCALE:GREGORIAN
METHOD:PUBLISH
X-ORIGINAL-URL:https://agrupacioparroquialmollerussa.cat
X-WR-CALDESC:Esdeveniments per Agrupació Parroquial Mollerussa
REFRESH-INTERVAL;VALUE=DURATION:PT1H
X-Robots-Tag:noindex
X-PUBLISHED-TTL:PT1H
BEGIN:VTIMEZONE
TZID:UTC
BEGIN:STANDARD
TZOFFSETFROM:+0000
TZOFFSETTO:+0000
TZNAME:UTC
DTSTART:20240101T000000
END:STANDARD
END:VTIMEZONE
BEGIN:VEVENT
DTSTART;TZID=UTC:20240324T120000
DTEND;TZID=UTC:20240324T130000
DTSTAMP:20260423T075929
CREATED:20240321T153746Z
LAST-MODIFIED:20240321T153746Z
UID:8392-1711281600-1711285200@agrupacioparroquialmollerussa.cat
SUMMARY:Diumenge de Rams
DESCRIPTION:
URL:https://agrupacioparroquialmollerussa.cat/calendari/diumenge-de-rams-17/
CATEGORIES:Celebracions,Sidamon
END:VEVENT
BEGIN:VEVENT
DTSTART;TZID=UTC:20240328T190000
DTEND;TZID=UTC:20240328T210000
DTSTAMP:20260423T075929
CREATED:20240321T155053Z
LAST-MODIFIED:20240321T155053Z
UID:8410-1711652400-1711659600@agrupacioparroquialmollerussa.cat
SUMMARY:Dijous Sant\, Cena del Senyor\, després Vetlla al Santissim
DESCRIPTION:
URL:https://agrupacioparroquialmollerussa.cat/calendari/dijous-sant-cena-del-senyor-despres-vetlla-al-santissim-4/
LOCATION:Sidamon
CATEGORIES:Celebracions,Sidamon
END:VEVENT
BEGIN:VEVENT
DTSTART;TZID=UTC:20240329T050000
DTEND;TZID=UTC:20240329T180000
DTSTAMP:20260423T075929
CREATED:20240321T160112Z
LAST-MODIFIED:20240321T160112Z
UID:8432-1711688400-1711735200@agrupacioparroquialmollerussa.cat
SUMMARY:Divendres Sant\, Passió del Senyor\, Celebració Litúrgica
DESCRIPTION:
URL:https://agrupacioparroquialmollerussa.cat/calendari/divendres-sant-passio-del-senyor-celebracio-liturgica-6/
LOCATION:Sidamon
CATEGORIES:Celebracions,Sidamon
END:VEVENT
BEGIN:VEVENT
DTSTART;TZID=UTC:20240329T103000
DTEND;TZID=UTC:20240329T110000
DTSTAMP:20260423T075929
CREATED:20240321T160029Z
LAST-MODIFIED:20240321T160029Z
UID:8430-1711708200-1711710000@agrupacioparroquialmollerussa.cat
SUMMARY:Viacrucis
DESCRIPTION:
URL:https://agrupacioparroquialmollerussa.cat/calendari/viacrucis-7/
LOCATION:Sidamon
CATEGORIES:Celebracions,Sidamon
END:VEVENT
BEGIN:VEVENT
DTSTART;TZID=UTC:20240331T120000
DTEND;TZID=UTC:20240331T130000
DTSTAMP:20260423T075929
CREATED:20240321T161501Z
LAST-MODIFIED:20240321T161501Z
UID:8456-1711886400-1711890000@agrupacioparroquialmollerussa.cat
SUMMARY:Diumenge de Pasqua
DESCRIPTION:
URL:https://agrupacioparroquialmollerussa.cat/calendari/diumenge-de-pasqua-15/
LOCATION:Sidamon
CATEGORIES:Celebracions,Sidamon
END:VEVENT
END:VCALENDAR