BEGIN:VCALENDAR
VERSION:2.0
PRODID:-//Agrupació Parroquial Mollerussa - ECPv6.14.0//NONSGML v1.0//EN
CALSCALE:GREGORIAN
METHOD:PUBLISH
X-ORIGINAL-URL:https://agrupacioparroquialmollerussa.cat
X-WR-CALDESC:Esdeveniments per Agrupació Parroquial Mollerussa
REFRESH-INTERVAL;VALUE=DURATION:PT1H
X-Robots-Tag:noindex
X-PUBLISHED-TTL:PT1H
BEGIN:VTIMEZONE
TZID:UTC
BEGIN:STANDARD
TZOFFSETFROM:+0000
TZOFFSETTO:+0000
TZNAME:UTC
DTSTART:20230101T000000
END:STANDARD
END:VTIMEZONE
BEGIN:VEVENT
DTSTART;VALUE=DATE:20230816
DTEND;VALUE=DATE:20230817
DTSTAMP:20260421T100743
CREATED:20230316T114049Z
LAST-MODIFIED:20230316T114049Z
UID:6476-1692144000-1692230399@agrupacioparroquialmollerussa.cat
SUMMARY:El Palau d'Anglesola\, celebració en honor de Sant Roc
DESCRIPTION:
URL:https://agrupacioparroquialmollerussa.cat/calendari/el-palau-danglesola-celebracio-en-honor-de-sant-roc/
LOCATION:El Palau
CATEGORIES:Celebracions,El Palau d'Anglesola
END:VEVENT
BEGIN:VEVENT
DTSTART;VALUE=DATE:20230815
DTEND;VALUE=DATE:20230816
DTSTAMP:20260421T100743
CREATED:20230316T114202Z
LAST-MODIFIED:20230316T114406Z
UID:6478-1692057600-1692143999@agrupacioparroquialmollerussa.cat
SUMMARY:L'Assumpció de la Mare de Déu
DESCRIPTION:
URL:https://agrupacioparroquialmollerussa.cat/calendari/lassumpcio-de-la-mare-de-deu-2/
CATEGORIES:Agrupació Parroquial,Celebracions
END:VEVENT
BEGIN:VEVENT
DTSTART;VALUE=DATE:20230813
DTEND;VALUE=DATE:20230814
DTSTAMP:20260421T100743
CREATED:20230316T113926Z
LAST-MODIFIED:20230316T113926Z
UID:6474-1691884800-1691971199@agrupacioparroquialmollerussa.cat
SUMMARY:Miralcamp\, Memória del beat Antoni Dalmau
DESCRIPTION:
URL:https://agrupacioparroquialmollerussa.cat/calendari/miralcamp-memoria-del-beat-antoni-dalmau/
LOCATION:Miralcamp
CATEGORIES:Celebracions,Miralcamp
END:VEVENT
BEGIN:VEVENT
DTSTART;VALUE=DATE:20230812
DTEND;VALUE=DATE:20230813
DTSTAMP:20260421T100743
CREATED:20230316T113832Z
LAST-MODIFIED:20230316T113832Z
UID:6472-1691798400-1691884799@agrupacioparroquialmollerussa.cat
SUMMARY:Fondarella\, Memória del beat Lluís Escalé
DESCRIPTION:
URL:https://agrupacioparroquialmollerussa.cat/calendari/fondarella-memoria-del-beat-lluis-escale/
LOCATION:Fondarella
CATEGORIES:Celebracions,Fondarella
END:VEVENT
BEGIN:VEVENT
DTSTART;TZID=UTC:20230806T120000
DTEND;TZID=UTC:20230806T130000
DTSTAMP:20260421T100743
CREATED:20230316T113711Z
LAST-MODIFIED:20230316T113711Z
UID:6470-1691323200-1691326800@agrupacioparroquialmollerussa.cat
SUMMARY:Golmés\, Festa Major en honor de sant Salvador
DESCRIPTION:
URL:https://agrupacioparroquialmollerussa.cat/calendari/golmes-festa-major-en-honor-de-sant-salvador/
LOCATION:Golmés
CATEGORIES:Celebracions,Golmés
END:VEVENT
BEGIN:VEVENT
DTSTART;VALUE=DATE:20230806
DTEND;VALUE=DATE:20230807
DTSTAMP:20260421T100743
CREATED:20230316T113535Z
LAST-MODIFIED:20230316T113535Z
UID:6468-1691280000-1691366399@agrupacioparroquialmollerussa.cat
SUMMARY:La Transfiguració
DESCRIPTION:
URL:https://agrupacioparroquialmollerussa.cat/calendari/la-transfiguracio/
CATEGORIES:Agrupació Parroquial,Celebracions
END:VEVENT
BEGIN:VEVENT
DTSTART;VALUE=DATE:20230725
DTEND;VALUE=DATE:20230726
DTSTAMP:20260421T100743
CREATED:20230316T105113Z
LAST-MODIFIED:20230316T105113Z
UID:6462-1690243200-1690329599@agrupacioparroquialmollerussa.cat
SUMMARY:Mollerussa\, Sant Jaume Apòstol. Patró titular de la parròquia
DESCRIPTION:
URL:https://agrupacioparroquialmollerussa.cat/calendari/mollerussa-sant-jaume-apostol-patro-titular-de-la-parroquia/
LOCATION:Mollerussa
CATEGORIES:Celebracions,Mollerussa
END:VEVENT
BEGIN:VEVENT
DTSTART;VALUE=DATE:20230624
DTEND;VALUE=DATE:20230625
DTSTAMP:20260421T100743
CREATED:20230316T102325Z
LAST-MODIFIED:20230316T102325Z
UID:6436-1687564800-1687651199@agrupacioparroquialmollerussa.cat
SUMMARY:Sant Joan Baptista
DESCRIPTION:
URL:https://agrupacioparroquialmollerussa.cat/calendari/sant-joan-baptista-2/
CATEGORIES:Agrupació Parroquial,Celebracions
END:VEVENT
BEGIN:VEVENT
DTSTART;VALUE=DATE:20230611
DTEND;VALUE=DATE:20230612
DTSTAMP:20260421T100743
CREATED:20230316T102234Z
LAST-MODIFIED:20230316T102234Z
UID:6434-1686441600-1686527999@agrupacioparroquialmollerussa.cat
SUMMARY:El Cos i la Sang de Crist
DESCRIPTION:
URL:https://agrupacioparroquialmollerussa.cat/calendari/el-cos-i-la-sang-de-crist/
CATEGORIES:Agrupació Parroquial,Celebracions
END:VEVENT
BEGIN:VEVENT
DTSTART;VALUE=DATE:20230604
DTEND;VALUE=DATE:20230605
DTSTAMP:20260421T100743
CREATED:20230316T102120Z
LAST-MODIFIED:20230316T102120Z
UID:6432-1685836800-1685923199@agrupacioparroquialmollerussa.cat
SUMMARY:Santissima Trinitat
DESCRIPTION:
URL:https://agrupacioparroquialmollerussa.cat/calendari/santissima-trinitat/
CATEGORIES:Agrupació Parroquial,Celebracions
END:VEVENT
BEGIN:VEVENT
DTSTART;VALUE=DATE:20230530
DTEND;VALUE=DATE:20230531
DTSTAMP:20260421T100743
CREATED:20230316T104406Z
LAST-MODIFIED:20230316T104406Z
UID:6455-1685404800-1685491199@agrupacioparroquialmollerussa.cat
SUMMARY:Golmes\, Festa major en honor de sant Salvador-Vot de Poble
DESCRIPTION:
URL:https://agrupacioparroquialmollerussa.cat/calendari/golmes-festa-major-en-honor-de-sant-salvador-vot-de-poble/
LOCATION:Golmés
CATEGORIES:Celebracions,Golmés
END:VEVENT
BEGIN:VEVENT
DTSTART;VALUE=DATE:20230528
DTEND;VALUE=DATE:20230529
DTSTAMP:20260421T100743
CREATED:20230316T101300Z
LAST-MODIFIED:20230316T101300Z
UID:6428-1685232000-1685318399@agrupacioparroquialmollerussa.cat
SUMMARY:Diumenge de Pentacosta
DESCRIPTION:
URL:https://agrupacioparroquialmollerussa.cat/calendari/diumenge-de-pentacosta/
CATEGORIES:Agrupació Parroquial,Celebracions
END:VEVENT
BEGIN:VEVENT
DTSTART;VALUE=DATE:20230522
DTEND;VALUE=DATE:20230523
DTSTAMP:20260421T100743
CREATED:20230316T101410Z
LAST-MODIFIED:20230316T105612Z
UID:6430-1684713600-1684799999@agrupacioparroquialmollerussa.cat
SUMMARY:Mollerussa\, Santa Joaquima de Vedruna. Fundadora germanes Carmelites Vedruna
DESCRIPTION:
URL:https://agrupacioparroquialmollerussa.cat/calendari/santa-joaquima-de-vedruna/
LOCATION:Mollerussa
CATEGORIES:Celebracions,Mollerussa
END:VEVENT
BEGIN:VEVENT
DTSTART;TZID=UTC:20230521T200000
DTEND;TZID=UTC:20230521T210000
DTSTAMP:20260421T100743
CREATED:20230511T094435Z
LAST-MODIFIED:20230511T094435Z
UID:6850-1684699200-1684702800@agrupacioparroquialmollerussa.cat
SUMMARY:Mollerussa\, Missa vespertina a l'església parroquial en honor de Santa Cristina
DESCRIPTION:
URL:https://agrupacioparroquialmollerussa.cat/calendari/mollerussa-missa-vespertina-a-lesglesia-parroquial-en-honor-de-santa-cristina/
LOCATION:Mollerussa
CATEGORIES:Celebracions,Mollerussa
END:VEVENT
BEGIN:VEVENT
DTSTART;VALUE=DATE:20230521
DTEND;VALUE=DATE:20230522
DTSTAMP:20260421T100743
CREATED:20230316T101207Z
LAST-MODIFIED:20230316T105515Z
UID:6426-1684627200-1684713599@agrupacioparroquialmollerussa.cat
SUMMARY:L'Ascensió del Senyor
DESCRIPTION:
URL:https://agrupacioparroquialmollerussa.cat/calendari/lascencio-del-senyor/
CATEGORIES:Agrupació Parroquial,Celebracions
END:VEVENT
BEGIN:VEVENT
DTSTART;TZID=UTC:20230519T110000
DTEND;TZID=UTC:20230519T120000
DTSTAMP:20260421T100743
CREATED:20230511T093816Z
LAST-MODIFIED:20230511T093816Z
UID:6848-1684494000-1684497600@agrupacioparroquialmollerussa.cat
SUMMARY:Mollerussa\, Missa Festa Major
DESCRIPTION:
URL:https://agrupacioparroquialmollerussa.cat/calendari/mollerussa-missa-festa-major/
LOCATION:Mollerussa
CATEGORIES:Celebracions,Mollerussa
END:VEVENT
BEGIN:VEVENT
DTSTART;TZID=UTC:20230519T080000
DTEND;TZID=UTC:20230521T170000
DTSTAMP:20260421T100743
CREATED:20230316T104130Z
LAST-MODIFIED:20230316T104130Z
UID:6452-1684483200-1684688400@agrupacioparroquialmollerussa.cat
SUMMARY:Mollerussa\, Festa Major en honor de sant Isidori\, sant Isidre i santa Cristina
DESCRIPTION:
URL:https://agrupacioparroquialmollerussa.cat/calendari/mollerussa-festa-major-en-honor-de-sant-isidori-sant-isidre-i-santa-cristina/
LOCATION:Mollerussa
CATEGORIES:Celebracions,Mollerussa
END:VEVENT
BEGIN:VEVENT
DTSTART;TZID=UTC:20230514T120000
DTEND;TZID=UTC:20230514T130000
DTSTAMP:20260421T100743
CREATED:20230316T103934Z
LAST-MODIFIED:20230316T103934Z
UID:6450-1684065600-1684069200@agrupacioparroquialmollerussa.cat
SUMMARY:Sidamon\, Festa de la Germandat de Sant Bartomeu
DESCRIPTION:
URL:https://agrupacioparroquialmollerussa.cat/calendari/sidamon-festa-de-la-germandat-de-sant-bartomeu/
LOCATION:Sidamon
CATEGORIES:Celebracions,Sidamon
END:VEVENT
BEGIN:VEVENT
DTSTART;VALUE=DATE:20230514
DTEND;VALUE=DATE:20230515
DTSTAMP:20260421T100743
CREATED:20230316T101119Z
LAST-MODIFIED:20230316T101119Z
UID:6424-1684022400-1684108799@agrupacioparroquialmollerussa.cat
SUMMARY:Diumenge VI de Pasqua
DESCRIPTION:
URL:https://agrupacioparroquialmollerussa.cat/calendari/diumenge-vi-de-pasqua/
CATEGORIES:Agrupació Parroquial,Celebracions
END:VEVENT
BEGIN:VEVENT
DTSTART;TZID=UTC:20230511T203000
DTEND;TZID=UTC:20230511T210000
DTSTAMP:20260421T100743
CREATED:20230504T101325Z
LAST-MODIFIED:20230504T101325Z
UID:6815-1683837000-1683838800@agrupacioparroquialmollerussa.cat
SUMMARY:Mollerussa\, Pregària de la Comunitat
DESCRIPTION:
URL:https://agrupacioparroquialmollerussa.cat/calendari/mollerussa-pregaria-de-la-comunitat/
LOCATION:Mollerussa
CATEGORIES:Celebracions,Mollerussa
END:VEVENT
BEGIN:VEVENT
DTSTART;TZID=UTC:20230509T101500
DTEND;TZID=UTC:20230509T223000
DTSTAMP:20260421T100743
CREATED:20230504T101722Z
LAST-MODIFIED:20230504T101722Z
UID:6817-1683627300-1683671400@agrupacioparroquialmollerussa.cat
SUMMARY:Miralcamp\, Pregaria de la Comunitat
DESCRIPTION:
URL:https://agrupacioparroquialmollerussa.cat/calendari/miralcamp-pregaria-de-la-comunitat/
LOCATION:Miralcamp
CATEGORIES:Celebracions,Miralcamp
END:VEVENT
BEGIN:VEVENT
DTSTART;TZID=UTC:20230507T120000
DTEND;TZID=UTC:20230507T130000
DTSTAMP:20260421T100743
CREATED:20230427T152251Z
LAST-MODIFIED:20230427T152251Z
UID:6800-1683460800-1683464400@agrupacioparroquialmollerussa.cat
SUMMARY:Palau d'Anglesola\, Missa pregarem a Déu ens beneeixi amb el do de la pluja
DESCRIPTION:
URL:https://agrupacioparroquialmollerussa.cat/calendari/palau-danglesola-missa-pregarem-a-deu-ens-beneeixi-amb-el-do-de-la-pluja/
LOCATION:El Palau
CATEGORIES:Celebracions,El Palau d'Anglesola
END:VEVENT
BEGIN:VEVENT
DTSTART;TZID=UTC:20230507T120000
DTEND;TZID=UTC:20230507T130000
DTSTAMP:20260421T100743
CREATED:20230427T151841Z
LAST-MODIFIED:20230427T151841Z
UID:6796-1683460800-1683464400@agrupacioparroquialmollerussa.cat
SUMMARY:Sidamon\, benedicció de rams olivera invocant protecció Sant Pere Martir\, per a que Déu pare ens atorgui el do de la pluja
DESCRIPTION:
URL:https://agrupacioparroquialmollerussa.cat/calendari/sidamon-benediccio-de-rams-olivera-invocant-proteccio-sant-pere-martir-per-a-que-deu-pare-ens-atorgui-el-do-de-la-pluja/
LOCATION:Sidamon
CATEGORIES:Celebracions,Sidamon
END:VEVENT
BEGIN:VEVENT
DTSTART;TZID=UTC:20230507T103000
DTEND;TZID=UTC:20230507T233000
DTSTAMP:20260421T100743
CREATED:20230427T152105Z
LAST-MODIFIED:20230427T152106Z
UID:6798-1683455400-1683502200@agrupacioparroquialmollerussa.cat
SUMMARY:Palau d'Anglesola\, trobada families grups catequesis parroquial
DESCRIPTION:
URL:https://agrupacioparroquialmollerussa.cat/calendari/palau-danglesola-trobada-families-grups-catequesis-parroquial/
LOCATION:El Palau
CATEGORIES:El Palau d'Anglesola
END:VEVENT
BEGIN:VEVENT
DTSTART;VALUE=DATE:20230507
DTEND;VALUE=DATE:20230508
DTSTAMP:20260421T100743
CREATED:20230316T101019Z
LAST-MODIFIED:20230316T101019Z
UID:6422-1683417600-1683503999@agrupacioparroquialmollerussa.cat
SUMMARY:Diumenge V de Pasqua
DESCRIPTION:
URL:https://agrupacioparroquialmollerussa.cat/calendari/diumenge-v-de-pasqua/
CATEGORIES:Agrupació Parroquial,Celebracions
END:VEVENT
BEGIN:VEVENT
DTSTART;TZID=UTC:20230501T100000
DTEND;TZID=UTC:20230501T110000
DTSTAMP:20260421T100743
CREATED:20230427T151608Z
LAST-MODIFIED:20230427T151608Z
UID:6794-1682935200-1682938800@agrupacioparroquialmollerussa.cat
SUMMARY:Mollerussa\, Festa Sant Josep Obrer\, Missa El Carme
DESCRIPTION:
URL:https://agrupacioparroquialmollerussa.cat/calendari/mollerussa-festa-sant-josep-obrer-missa-el-carme/
LOCATION:Mollerussa
CATEGORIES:Celebracions,Mollerussa
END:VEVENT
BEGIN:VEVENT
DTSTART;TZID=UTC:20230501T083000
DTEND;TZID=UTC:20230501T093000
DTSTAMP:20260421T100743
CREATED:20230427T151446Z
LAST-MODIFIED:20230427T151446Z
UID:6792-1682929800-1682933400@agrupacioparroquialmollerussa.cat
SUMMARY:Mollerussa\, Festa Sant Josep Obrer\, Missa Clausura
DESCRIPTION:
URL:https://agrupacioparroquialmollerussa.cat/calendari/mollerussa-festa-sant-josep-obrer-missa-clausura/
LOCATION:Mollerussa
CATEGORIES:Celebracions,Mollerussa
END:VEVENT
BEGIN:VEVENT
DTSTART;VALUE=DATE:20230501
DTEND;VALUE=DATE:20230502
DTSTAMP:20260421T100743
CREATED:20230316T100913Z
LAST-MODIFIED:20230316T100913Z
UID:6420-1682899200-1682985599@agrupacioparroquialmollerussa.cat
SUMMARY:Sant Josep obrer
DESCRIPTION:
URL:https://agrupacioparroquialmollerussa.cat/calendari/sant-josep-obrer/
CATEGORIES:Agrupació Parroquial,Celebracions
END:VEVENT
BEGIN:VEVENT
DTSTART;VALUE=DATE:20230430
DTEND;VALUE=DATE:20230501
DTSTAMP:20260421T100743
CREATED:20230316T103618Z
LAST-MODIFIED:20230427T151227Z
UID:6448-1682812800-1682899199@agrupacioparroquialmollerussa.cat
SUMMARY:Vila-sana\, XXX Festa de la Mare de Déu de la Cabeza\, ofrena floral i Missa presidida pel nostre Bisbe Mons. Francesc Conesa i Ferrer
DESCRIPTION:
URL:https://agrupacioparroquialmollerussa.cat/calendari/vila-sana-diada-festiva-en-honor-de-la-mare-de-deu-de-la-cabeza/
LOCATION:Vila-sana
CATEGORIES:Celebracions,Vila-sana
END:VEVENT
BEGIN:VEVENT
DTSTART;VALUE=DATE:20230430
DTEND;VALUE=DATE:20230501
DTSTAMP:20260421T100743
CREATED:20230316T100751Z
LAST-MODIFIED:20230316T100751Z
UID:6418-1682812800-1682899199@agrupacioparroquialmollerussa.cat
SUMMARY:Diumenge IV de Pasqua
DESCRIPTION:
URL:https://agrupacioparroquialmollerussa.cat/calendari/diumenge-iv-de-pasqua/
CATEGORIES:Agrupació Parroquial,Celebracions
END:VEVENT
END:VCALENDAR