BEGIN:VCALENDAR
VERSION:2.0
PRODID:-//Agrupació Parroquial Mollerussa - ECPv6.14.0//NONSGML v1.0//EN
CALSCALE:GREGORIAN
METHOD:PUBLISH
X-ORIGINAL-URL:https://agrupacioparroquialmollerussa.cat
X-WR-CALDESC:Esdeveniments per Agrupació Parroquial Mollerussa
REFRESH-INTERVAL;VALUE=DURATION:PT1H
X-Robots-Tag:noindex
X-PUBLISHED-TTL:PT1H
BEGIN:VTIMEZONE
TZID:UTC
BEGIN:STANDARD
TZOFFSETFROM:+0000
TZOFFSETTO:+0000
TZNAME:UTC
DTSTART:20230101T000000
END:STANDARD
END:VTIMEZONE
BEGIN:VEVENT
DTSTART;VALUE=DATE:20230507
DTEND;VALUE=DATE:20230508
DTSTAMP:20260421T141828
CREATED:20230316T101019Z
LAST-MODIFIED:20230316T101019Z
UID:6422-1683417600-1683503999@agrupacioparroquialmollerussa.cat
SUMMARY:Diumenge V de Pasqua
DESCRIPTION:
URL:https://agrupacioparroquialmollerussa.cat/calendari/diumenge-v-de-pasqua/
CATEGORIES:Agrupació Parroquial,Celebracions
END:VEVENT
BEGIN:VEVENT
DTSTART;TZID=UTC:20230501T100000
DTEND;TZID=UTC:20230501T110000
DTSTAMP:20260421T141828
CREATED:20230427T151608Z
LAST-MODIFIED:20230427T151608Z
UID:6794-1682935200-1682938800@agrupacioparroquialmollerussa.cat
SUMMARY:Mollerussa\, Festa Sant Josep Obrer\, Missa El Carme
DESCRIPTION:
URL:https://agrupacioparroquialmollerussa.cat/calendari/mollerussa-festa-sant-josep-obrer-missa-el-carme/
LOCATION:Mollerussa
CATEGORIES:Celebracions,Mollerussa
END:VEVENT
BEGIN:VEVENT
DTSTART;TZID=UTC:20230501T083000
DTEND;TZID=UTC:20230501T093000
DTSTAMP:20260421T141828
CREATED:20230427T151446Z
LAST-MODIFIED:20230427T151446Z
UID:6792-1682929800-1682933400@agrupacioparroquialmollerussa.cat
SUMMARY:Mollerussa\, Festa Sant Josep Obrer\, Missa Clausura
DESCRIPTION:
URL:https://agrupacioparroquialmollerussa.cat/calendari/mollerussa-festa-sant-josep-obrer-missa-clausura/
LOCATION:Mollerussa
CATEGORIES:Celebracions,Mollerussa
END:VEVENT
BEGIN:VEVENT
DTSTART;VALUE=DATE:20230501
DTEND;VALUE=DATE:20230502
DTSTAMP:20260421T141829
CREATED:20230316T100913Z
LAST-MODIFIED:20230316T100913Z
UID:6420-1682899200-1682985599@agrupacioparroquialmollerussa.cat
SUMMARY:Sant Josep obrer
DESCRIPTION:
URL:https://agrupacioparroquialmollerussa.cat/calendari/sant-josep-obrer/
CATEGORIES:Agrupació Parroquial,Celebracions
END:VEVENT
BEGIN:VEVENT
DTSTART;VALUE=DATE:20230430
DTEND;VALUE=DATE:20230501
DTSTAMP:20260421T141829
CREATED:20230316T103618Z
LAST-MODIFIED:20230427T151227Z
UID:6448-1682812800-1682899199@agrupacioparroquialmollerussa.cat
SUMMARY:Vila-sana\, XXX Festa de la Mare de Déu de la Cabeza\, ofrena floral i Missa presidida pel nostre Bisbe Mons. Francesc Conesa i Ferrer
DESCRIPTION:
URL:https://agrupacioparroquialmollerussa.cat/calendari/vila-sana-diada-festiva-en-honor-de-la-mare-de-deu-de-la-cabeza/
LOCATION:Vila-sana
CATEGORIES:Celebracions,Vila-sana
END:VEVENT
BEGIN:VEVENT
DTSTART;VALUE=DATE:20230430
DTEND;VALUE=DATE:20230501
DTSTAMP:20260421T141829
CREATED:20230316T100751Z
LAST-MODIFIED:20230316T100751Z
UID:6418-1682812800-1682899199@agrupacioparroquialmollerussa.cat
SUMMARY:Diumenge IV de Pasqua
DESCRIPTION:
URL:https://agrupacioparroquialmollerussa.cat/calendari/diumenge-iv-de-pasqua/
CATEGORIES:Agrupació Parroquial,Celebracions
END:VEVENT
BEGIN:VEVENT
DTSTART;TZID=UTC:20230428T203000
DTEND;TZID=UTC:20230428T213000
DTSTAMP:20260421T141829
CREATED:20230427T150532Z
LAST-MODIFIED:20230427T150721Z
UID:6788-1682713800-1682717400@agrupacioparroquialmollerussa.cat
SUMMARY:Mollerussa\, a església parroquial celebració Sagrament Perdó\, amb familiars nens i nenes Primera Comunió
DESCRIPTION:
URL:https://agrupacioparroquialmollerussa.cat/calendari/mollerussa-a-esglesia-parroquial-celebracio-sagrament-perdo-amb-familiars-nens-i-nenes-primera-comunio/
LOCATION:Mollerussa
CATEGORIES:Celebracions,Mollerussa
END:VEVENT
BEGIN:VEVENT
DTSTART;TZID=UTC:20230427T200000
DTEND;TZID=UTC:20230427T210000
DTSTAMP:20260421T141829
CREATED:20230427T145944Z
LAST-MODIFIED:20230427T145944Z
UID:6784-1682625600-1682629200@agrupacioparroquialmollerussa.cat
SUMMARY:Golmés\, Ofrena floral i Missa en honor de la Mare de Déu de Montserrat
DESCRIPTION:
URL:https://agrupacioparroquialmollerussa.cat/calendari/golmes-ofrena-floral-i-missa-en-honor-de-la-mare-de-deu-de-montserrat/
LOCATION:Golmés
CATEGORIES:Celebracions,Golmés
END:VEVENT
BEGIN:VEVENT
DTSTART;TZID=UTC:20230427T200000
DTEND;TZID=UTC:20230427T210000
DTSTAMP:20260421T141829
CREATED:20230427T145613Z
LAST-MODIFIED:20230427T145613Z
UID:6780-1682625600-1682629200@agrupacioparroquialmollerussa.cat
SUMMARY:Mollerussa\, Missa en honor de la Mare de Déu de Montserrat
DESCRIPTION:
URL:https://agrupacioparroquialmollerussa.cat/calendari/mollerussa-missa-en-honor-de-la-mare-de-deu-de-montserrat/
LOCATION:Mollerussa
CATEGORIES:Celebracions,Mollerussa
END:VEVENT
BEGIN:VEVENT
DTSTART;TZID=UTC:20230427T183000
DTEND;TZID=UTC:20230427T190000
DTSTAMP:20260421T141829
CREATED:20230427T145759Z
LAST-MODIFIED:20230427T145759Z
UID:6782-1682620200-1682622000@agrupacioparroquialmollerussa.cat
SUMMARY:Mollerussa\, Ofrena floral a la Mare de Déu de Montserrat
DESCRIPTION:
URL:https://agrupacioparroquialmollerussa.cat/calendari/mollerussa-ofrena-floral-a-la-mare-de-deu-de-montserrat/
LOCATION:Mollerussa
CATEGORIES:Celebracions,Mollerussa
END:VEVENT
BEGIN:VEVENT
DTSTART;TZID=UTC:20230427T180000
DTEND;TZID=UTC:20230427T190000
DTSTAMP:20260421T141829
CREATED:20230427T150229Z
LAST-MODIFIED:20230427T150229Z
UID:6786-1682618400-1682622000@agrupacioparroquialmollerussa.cat
SUMMARY:El Palau d'Anglesola\, Ofrena Floral i Missa en honor de la Mare de Déu de Montserrat
DESCRIPTION:
URL:https://agrupacioparroquialmollerussa.cat/calendari/el-palau-danglesola-ofrena-floral-i-missa-en-honor-de-la-mare-de-deu-de-montserrat/
LOCATION:El Palau
CATEGORIES:Celebracions,El Palau d'Anglesola
END:VEVENT
BEGIN:VEVENT
DTSTART;TZID=UTC:20230427T100000
DTEND;TZID=UTC:20230427T110000
DTSTAMP:20260421T141829
CREATED:20230427T145416Z
LAST-MODIFIED:20230427T145416Z
UID:6778-1682589600-1682593200@agrupacioparroquialmollerussa.cat
SUMMARY:Miralcamp\, Missa en honor de la Mare de Déu de Montserrat
DESCRIPTION:
URL:https://agrupacioparroquialmollerussa.cat/calendari/miralcamp-missa-en-honor-de-la-mare-de-deu-de-montserrat/
LOCATION:Miralcamp
CATEGORIES:Celebracions,Miralcamp
END:VEVENT
BEGIN:VEVENT
DTSTART;VALUE=DATE:20230423
DTEND;VALUE=DATE:20230424
DTSTAMP:20260421T141829
CREATED:20230316T100705Z
LAST-MODIFIED:20230316T100705Z
UID:6415-1682208000-1682294399@agrupacioparroquialmollerussa.cat
SUMMARY:Diumenge III de Pasqua\, Sant Jordi
DESCRIPTION:
URL:https://agrupacioparroquialmollerussa.cat/calendari/diumenge-iii-de-pasqua-sant-jordi/
CATEGORIES:Agrupació Parroquial,Celebracions
END:VEVENT
BEGIN:VEVENT
DTSTART;VALUE=DATE:20230416
DTEND;VALUE=DATE:20230417
DTSTAMP:20260421T141829
CREATED:20230316T100514Z
LAST-MODIFIED:20230316T100514Z
UID:6413-1681603200-1681689599@agrupacioparroquialmollerussa.cat
SUMMARY:Diumenge II de Pasqua
DESCRIPTION:
URL:https://agrupacioparroquialmollerussa.cat/calendari/diumenge-ii-de-pasqua/
CATEGORIES:Agrupació Parroquial,Celebracions
END:VEVENT
BEGIN:VEVENT
DTSTART;TZID=UTC:20230415T200000
DTEND;TZID=UTC:20230415T210000
DTSTAMP:20260421T141829
CREATED:20230316T103453Z
LAST-MODIFIED:20230316T103453Z
UID:6446-1681588800-1681592400@agrupacioparroquialmollerussa.cat
SUMMARY:Mollerussa\, Missa renovació Vot de Poble
DESCRIPTION:
URL:https://agrupacioparroquialmollerussa.cat/calendari/mollerussa-missa-renovacio-vot-de-poble/
LOCATION:Mollerussa
CATEGORIES:Celebracions,Mollerussa
END:VEVENT
BEGIN:VEVENT
DTSTART;VALUE=DATE:20230411
DTEND;VALUE=DATE:20230416
DTSTAMP:20260421T141829
CREATED:20230316T100337Z
LAST-MODIFIED:20230316T100552Z
UID:6411-1681171200-1681603199@agrupacioparroquialmollerussa.cat
SUMMARY:Setmana de Sant Isidori
DESCRIPTION:
URL:https://agrupacioparroquialmollerussa.cat/calendari/setmana-de-sant-isidori-3/
LOCATION:Mollerussa
CATEGORIES:Mollerussa
END:VEVENT
BEGIN:VEVENT
DTSTART;TZID=UTC:20230410T103000
DTEND;TZID=UTC:20230410T233000
DTSTAMP:20260421T141829
CREATED:20230316T102747Z
LAST-MODIFIED:20230316T102747Z
UID:6440-1681122600-1681169400@agrupacioparroquialmollerussa.cat
SUMMARY:Miralcamp\, Renovació de Vot de Poble a sant Sebastià
DESCRIPTION:
URL:https://agrupacioparroquialmollerussa.cat/calendari/miralcamp-renovacio-de-vot-de-poble-a-sant-sebastia/
LOCATION:Miralcamp
CATEGORIES:Celebracions,Miralcamp
END:VEVENT
BEGIN:VEVENT
DTSTART;VALUE=DATE:20230410
DTEND;VALUE=DATE:20230411
DTSTAMP:20260421T141829
CREATED:20230316T100230Z
LAST-MODIFIED:20230316T100230Z
UID:6409-1681084800-1681171199@agrupacioparroquialmollerussa.cat
SUMMARY:Dilluns de Pasqua
DESCRIPTION:
URL:https://agrupacioparroquialmollerussa.cat/calendari/dilluns-de-pasqua-2/
CATEGORIES:Agrupació Parroquial,Celebracions
END:VEVENT
BEGIN:VEVENT
DTSTART;TZID=UTC:20230409T120000
DTEND;TZID=UTC:20230409T133000
DTSTAMP:20260421T141829
CREATED:20230405T100844Z
LAST-MODIFIED:20230405T100844Z
UID:6683-1681041600-1681047000@agrupacioparroquialmollerussa.cat
SUMMARY:El Palau d'Anglesola\, Diumenge de Pasqua
DESCRIPTION:
URL:https://agrupacioparroquialmollerussa.cat/calendari/el-palau-danglesola-diumenge-de-pasqua/
LOCATION:El Palau
CATEGORIES:Celebracions,El Palau d'Anglesola
END:VEVENT
BEGIN:VEVENT
DTSTART;TZID=UTC:20230409T120000
DTEND;TZID=UTC:20230409T130000
DTSTAMP:20260421T141829
CREATED:20230405T101952Z
LAST-MODIFIED:20230405T101952Z
UID:6695-1681041600-1681045200@agrupacioparroquialmollerussa.cat
SUMMARY:Sidamon\, Diumenge de Pasqua
DESCRIPTION:
URL:https://agrupacioparroquialmollerussa.cat/calendari/sidamon-diumenge-de-pasqua/
LOCATION:Sidamon
CATEGORIES:Celebracions,Sidamon
END:VEVENT
BEGIN:VEVENT
DTSTART;TZID=UTC:20230409T120000
DTEND;TZID=UTC:20230409T130000
DTSTAMP:20260421T141829
CREATED:20230405T101844Z
LAST-MODIFIED:20230405T101844Z
UID:6693-1681041600-1681045200@agrupacioparroquialmollerussa.cat
SUMMARY:Mollerussa\, Parròquia\, Diumenge de Pasqua
DESCRIPTION:
URL:https://agrupacioparroquialmollerussa.cat/calendari/mollerussa-parroquia-diumenge-de-pasqua/
LOCATION:Mollerussa
CATEGORIES:Celebracions,Mollerussa
END:VEVENT
BEGIN:VEVENT
DTSTART;TZID=UTC:20230409T120000
DTEND;TZID=UTC:20230409T130000
DTSTAMP:20260421T141829
CREATED:20230405T101511Z
LAST-MODIFIED:20230405T101511Z
UID:6687-1681041600-1681045200@agrupacioparroquialmollerussa.cat
SUMMARY:Golmés\, Diumenge de Pasqua
DESCRIPTION:
URL:https://agrupacioparroquialmollerussa.cat/calendari/golmes-diumenge-de-pasqua/
LOCATION:Golmés
CATEGORIES:Celebracions,Golmés
END:VEVENT
BEGIN:VEVENT
DTSTART;TZID=UTC:20230409T103000
DTEND;TZID=UTC:20230409T113000
DTSTAMP:20260421T141829
CREATED:20230405T102055Z
LAST-MODIFIED:20230405T102055Z
UID:6697-1681036200-1681039800@agrupacioparroquialmollerussa.cat
SUMMARY:Vila-sana\, Diumenge de Pasqua
DESCRIPTION:
URL:https://agrupacioparroquialmollerussa.cat/calendari/vila-sana-diumenge-de-pasqua/
LOCATION:Vila-sana
CATEGORIES:Celebracions,Vila-sana
END:VEVENT
BEGIN:VEVENT
DTSTART;TZID=UTC:20230409T103000
DTEND;TZID=UTC:20230409T113000
DTSTAMP:20260421T141829
CREATED:20230405T101615Z
LAST-MODIFIED:20230405T101615Z
UID:6689-1681036200-1681039800@agrupacioparroquialmollerussa.cat
SUMMARY:Miralcamp\, Diumenge de Pasqua
DESCRIPTION:
URL:https://agrupacioparroquialmollerussa.cat/calendari/miralcamp-diumenge-de-pasqua/
LOCATION:Miralcamp
CATEGORIES:Celebracions,Miralcamp
END:VEVENT
BEGIN:VEVENT
DTSTART;TZID=UTC:20230409T103000
DTEND;TZID=UTC:20230409T103000
DTSTAMP:20260421T141829
CREATED:20230405T101413Z
LAST-MODIFIED:20230405T101413Z
UID:6685-1681036200-1681036200@agrupacioparroquialmollerussa.cat
SUMMARY:Fondarella\, Diumenge de Pasqua
DESCRIPTION:
URL:https://agrupacioparroquialmollerussa.cat/calendari/fondarella-diumenge-de-pasqua/
LOCATION:Fondarella
CATEGORIES:Celebracions,Fondarella
END:VEVENT
BEGIN:VEVENT
DTSTART;TZID=UTC:20230409T093000
DTEND;TZID=UTC:20230409T103000
DTSTAMP:20260421T141829
CREATED:20230405T101742Z
LAST-MODIFIED:20230405T101742Z
UID:6691-1681032600-1681036200@agrupacioparroquialmollerussa.cat
SUMMARY:Mollerussa\, Clausura\, Diumenge de Pasqua
DESCRIPTION:
URL:https://agrupacioparroquialmollerussa.cat/calendari/mollerussa-clausura-diumenge-de-pasqua/
LOCATION:Mollerussa
CATEGORIES:Celebracions,Mollerussa
END:VEVENT
BEGIN:VEVENT
DTSTART;VALUE=DATE:20230409
DTEND;VALUE=DATE:20230410
DTSTAMP:20260421T141829
CREATED:20230316T100138Z
LAST-MODIFIED:20230316T100138Z
UID:6407-1680998400-1681084799@agrupacioparroquialmollerussa.cat
SUMMARY:Diumenge de Pasqua
DESCRIPTION:
URL:https://agrupacioparroquialmollerussa.cat/calendari/diumenge-de-pasqua-9/
CATEGORIES:Agrupació Parroquial,Celebracions
END:VEVENT
BEGIN:VEVENT
DTSTART;TZID=UTC:20230408T213000
DTEND;TZID=UTC:20230408T233000
DTSTAMP:20260421T141829
CREATED:20230405T100645Z
LAST-MODIFIED:20230405T100645Z
UID:6681-1680989400-1680996600@agrupacioparroquialmollerussa.cat
SUMMARY:Mollerussa\, Parròquia\, Vetlla Pasqual
DESCRIPTION:
URL:https://agrupacioparroquialmollerussa.cat/calendari/mollerussa-parroquia-vetlla-pasqual/
LOCATION:Mollerussa
CATEGORIES:Celebracions,Mollerussa
END:VEVENT
BEGIN:VEVENT
DTSTART;TZID=UTC:20230408T210000
DTEND;TZID=UTC:20230408T230000
DTSTAMP:20260421T141829
CREATED:20230405T100531Z
LAST-MODIFIED:20230405T100531Z
UID:6679-1680987600-1680994800@agrupacioparroquialmollerussa.cat
SUMMARY:Mollerussa\, Clausura\, Vetlla Pasqual
DESCRIPTION:
URL:https://agrupacioparroquialmollerussa.cat/calendari/mollerussa-clausura-vetlla-pasqual/
LOCATION:Mollerussa
CATEGORIES:Celebracions,Mollerussa
END:VEVENT
BEGIN:VEVENT
DTSTART;TZID=UTC:20230408T210000
DTEND;TZID=UTC:20230408T230000
DTSTAMP:20260421T141829
CREATED:20230405T100433Z
LAST-MODIFIED:20230405T100433Z
UID:6677-1680987600-1680994800@agrupacioparroquialmollerussa.cat
SUMMARY:El Palau d'Anglesola\, Vetlla Pasqual
DESCRIPTION:
URL:https://agrupacioparroquialmollerussa.cat/calendari/el-palau-danglesola-vetlla-pasqual/
LOCATION:El Palau
CATEGORIES:Celebracions,El Palau d'Anglesola
END:VEVENT
END:VCALENDAR