BEGIN:VCALENDAR
VERSION:2.0
PRODID:-//Agrupació Parroquial Mollerussa - ECPv6.14.0//NONSGML v1.0//EN
CALSCALE:GREGORIAN
METHOD:PUBLISH
X-WR-CALNAME:Agrupació Parroquial Mollerussa
X-ORIGINAL-URL:https://agrupacioparroquialmollerussa.cat
X-WR-CALDESC:Esdeveniments per Agrupació Parroquial Mollerussa
REFRESH-INTERVAL;VALUE=DURATION:PT1H
X-Robots-Tag:noindex
X-PUBLISHED-TTL:PT1H
BEGIN:VTIMEZONE
TZID:UTC
BEGIN:STANDARD
TZOFFSETFROM:+0000
TZOFFSETTO:+0000
TZNAME:UTC
DTSTART:20230101T000000
END:STANDARD
END:VTIMEZONE
BEGIN:VEVENT
DTSTART;TZID=UTC:20230407T170000
DTEND;TZID=UTC:20230407T180000
DTSTAMP:20260423T114040
CREATED:20230405T095257Z
LAST-MODIFIED:20230405T095257Z
UID:6665-1680886800-1680890400@agrupacioparroquialmollerussa.cat
SUMMARY:Mollerussa\, Clausura\, Divendres Sant\, Passió del Senyor\, Celebració Litúrgica
DESCRIPTION:
URL:https://agrupacioparroquialmollerussa.cat/calendari/mollerussa-clausura-divendres-sant-passio-del-senyor-celebracio-liturgica/
LOCATION:Mollerussa
CATEGORIES:Celebracions,Mollerussa
END:VEVENT
BEGIN:VEVENT
DTSTART;TZID=UTC:20230407T170000
DTEND;TZID=UTC:20230407T180000
DTSTAMP:20260423T114040
CREATED:20230405T095137Z
LAST-MODIFIED:20230405T095137Z
UID:6663-1680886800-1680890400@agrupacioparroquialmollerussa.cat
SUMMARY:Miralcamp\, Divendres Sant\, Passió del Senyor\, Celebració Litúrgica
DESCRIPTION:
URL:https://agrupacioparroquialmollerussa.cat/calendari/miralcamp-divendres-sant-passio-del-senyor-celebracio-liturgica/
LOCATION:Miralcamp
CATEGORIES:Celebracions,Miralcamp
END:VEVENT
BEGIN:VEVENT
DTSTART;TZID=UTC:20230407T123000
DTEND;TZID=UTC:20230407T133000
DTSTAMP:20260423T114040
CREATED:20230405T094842Z
LAST-MODIFIED:20230405T094842Z
UID:6659-1680870600-1680874200@agrupacioparroquialmollerussa.cat
SUMMARY:Golmés\, Divendres Sant\, Passió del Senyor\, Celebració Litúrgica
DESCRIPTION:
URL:https://agrupacioparroquialmollerussa.cat/calendari/golmes-divendres-sant-passio-del-senyor-celebracio-liturgica/
LOCATION:Golmés
CATEGORIES:Celebracions,Golmés
END:VEVENT
BEGIN:VEVENT
DTSTART;TZID=UTC:20230407T103000
DTEND;TZID=UTC:20230407T113000
DTSTAMP:20260423T114040
CREATED:20230405T095644Z
LAST-MODIFIED:20230405T095644Z
UID:6671-1680863400-1680867000@agrupacioparroquialmollerussa.cat
SUMMARY:Sidamon\, Divendres Sant\, Passió del Senyor\, Viacrucis
DESCRIPTION:
URL:https://agrupacioparroquialmollerussa.cat/calendari/sidamon-divendres-sant-passio-del-senyor-viacrucis/
LOCATION:Sidamon
CATEGORIES:Celebracions,Sidamon
END:VEVENT
BEGIN:VEVENT
DTSTART;TZID=UTC:20230407T101500
DTEND;TZID=UTC:20230407T111500
DTSTAMP:20260423T114040
CREATED:20230405T095023Z
LAST-MODIFIED:20230405T095023Z
UID:6661-1680862500-1680866100@agrupacioparroquialmollerussa.cat
SUMMARY:Miralcamp\, Divendres Sant\, Passió del Senyor\, Viacrucis
DESCRIPTION:
URL:https://agrupacioparroquialmollerussa.cat/calendari/miralcamp-divendres-sant-passio-del-senyor-viacrucis/
LOCATION:Miralcamp
CATEGORIES:Celebracions,Miralcamp
END:VEVENT
BEGIN:VEVENT
DTSTART;TZID=UTC:20230407T090000
DTEND;TZID=UTC:20230407T103000
DTSTAMP:20260423T114040
CREATED:20230405T094006Z
LAST-MODIFIED:20230405T094006Z
UID:6653-1680858000-1680863400@agrupacioparroquialmollerussa.cat
SUMMARY:El Palau D'Anglesola\, Divendres Sant\, Passió del Senyor\, Viacrucis
DESCRIPTION:
URL:https://agrupacioparroquialmollerussa.cat/calendari/el-palau-danglesola-divendres-sant-passio-del-senyor-viacrucis/
LOCATION:El Palau
CATEGORIES:Celebracions,El Palau d'Anglesola
END:VEVENT
BEGIN:VEVENT
DTSTART;TZID=UTC:20230407T090000
DTEND;TZID=UTC:20230407T100000
DTSTAMP:20260423T114040
CREATED:20230405T095416Z
LAST-MODIFIED:20230405T095416Z
UID:6667-1680858000-1680861600@agrupacioparroquialmollerussa.cat
SUMMARY:Mollerussa\, Parròquia\, Divendres Sant\, Passió del Senyor\, Viacrucis
DESCRIPTION:
URL:https://agrupacioparroquialmollerussa.cat/calendari/mollerussa-parroquia-divendres-sant-passio-del-senyor-viacrucis/
LOCATION:Mollerussa
CATEGORIES:Celebracions,Mollerussa
END:VEVENT
BEGIN:VEVENT
DTSTART;TZID=UTC:20230407T080000
DTEND;TZID=UTC:20230407T170000
DTSTAMP:20260423T114040
CREATED:20230316T102557Z
LAST-MODIFIED:20230316T102858Z
UID:6438-1680854400-1680886800@agrupacioparroquialmollerussa.cat
SUMMARY:Sant Joan B. de Salle\, fundador dels Germans de les Escoles Cristianes
DESCRIPTION:
URL:https://agrupacioparroquialmollerussa.cat/calendari/sant-joan-b-de-salle-fundador-dels-germans-de-les-escoles-cristianes/
LOCATION:Mollerussa
CATEGORIES:Agrupació Parroquial,Celebracions
END:VEVENT
BEGIN:VEVENT
DTSTART;VALUE=DATE:20230407
DTEND;VALUE=DATE:20230408
DTSTAMP:20260423T114040
CREATED:20230316T102959Z
LAST-MODIFIED:20230316T102959Z
UID:6442-1680825600-1680911999@agrupacioparroquialmollerussa.cat
SUMMARY:Divendres Sant\, Passió del Senyor
DESCRIPTION:
URL:https://agrupacioparroquialmollerussa.cat/calendari/divendres-sant-passio-del-senyor-9/
CATEGORIES:Agrupació Parroquial,Celebracions
END:VEVENT
BEGIN:VEVENT
DTSTART;TZID=UTC:20230406T200000
DTEND;TZID=UTC:20230406T220000
DTSTAMP:20260423T114040
CREATED:20230405T093405Z
LAST-MODIFIED:20230405T093405Z
UID:6647-1680811200-1680818400@agrupacioparroquialmollerussa.cat
SUMMARY:Mollerussa\, Parròquia\, Cena del Senyor\, Missa i Vetlla al Santíssim
DESCRIPTION:
URL:https://agrupacioparroquialmollerussa.cat/calendari/mollerussa-parroquia-cena-del-senyor-missa-i-vetlla-al-santissim/
LOCATION:Mollerussa
CATEGORIES:Celebracions,Mollerussa
END:VEVENT
BEGIN:VEVENT
DTSTART;TZID=UTC:20230406T200000
DTEND;TZID=UTC:20230406T220000
DTSTAMP:20260423T114040
CREATED:20230405T092715Z
LAST-MODIFIED:20230405T092715Z
UID:6639-1680811200-1680818400@agrupacioparroquialmollerussa.cat
SUMMARY:El Palau D'Anglesola\, Cena del Senyor\, Missa i Vetlla al Santíssim
DESCRIPTION:
URL:https://agrupacioparroquialmollerussa.cat/calendari/el-palau-danglesola-cena-del-senyor-missa-i-vetlla-al-santissim/
LOCATION:El Palau
CATEGORIES:Celebracions,El Palau d'Anglesola
END:VEVENT
BEGIN:VEVENT
DTSTART;TZID=UTC:20230406T200000
DTEND;TZID=UTC:20230406T220000
DTSTAMP:20260423T114040
CREATED:20230330T145857Z
LAST-MODIFIED:20230330T145857Z
UID:6597-1680811200-1680818400@agrupacioparroquialmollerussa.cat
SUMMARY:Dijous Sant\, "Cena del Senyor" i Vetlla al Santíssim
DESCRIPTION:
URL:https://agrupacioparroquialmollerussa.cat/calendari/dijous-sant-cena-del-senyor-i-vetlla-al-santissim/
LOCATION:El Palau
CATEGORIES:Celebracions,El Palau d'Anglesola
END:VEVENT
BEGIN:VEVENT
DTSTART;TZID=UTC:20230406T193000
DTEND;TZID=UTC:20230406T210000
DTSTAMP:20260423T114040
CREATED:20230405T093604Z
LAST-MODIFIED:20230405T093604Z
UID:6649-1680809400-1680814800@agrupacioparroquialmollerussa.cat
SUMMARY:Sidamon\, Cena del Senyor\, Missa\, Celebració del Perdó i Vetlla al Santíssim
DESCRIPTION:
URL:https://agrupacioparroquialmollerussa.cat/calendari/sidamon-cena-del-senyor-missa-celebracio-del-perdo-i-vetlla-al-santissim/
LOCATION:Sidamon
CATEGORIES:Celebracions,Sidamon
END:VEVENT
BEGIN:VEVENT
DTSTART;TZID=UTC:20230406T190000
DTEND;TZID=UTC:20230406T210000
DTSTAMP:20260423T114040
CREATED:20230405T092834Z
LAST-MODIFIED:20230405T093045Z
UID:6641-1680807600-1680814800@agrupacioparroquialmollerussa.cat
SUMMARY:Golmés\, Vetlla al Santíssim
DESCRIPTION:
URL:https://agrupacioparroquialmollerussa.cat/calendari/golmes-vetlla-al-santissim/
LOCATION:Golmés
CATEGORIES:Celebracions,Golmés
END:VEVENT
BEGIN:VEVENT
DTSTART;TZID=UTC:20230406T180000
DTEND;TZID=UTC:20230406T210000
DTSTAMP:20260423T114040
CREATED:20230405T092938Z
LAST-MODIFIED:20230405T092938Z
UID:6643-1680804000-1680814800@agrupacioparroquialmollerussa.cat
SUMMARY:Miralcamp\, Cena del Senyor\, Missa i Vetlla al Santíssim
DESCRIPTION:
URL:https://agrupacioparroquialmollerussa.cat/calendari/miralcamp-cena-del-senyor-missa-i-vetlla-al-santissim/
LOCATION:Miralcamp
CATEGORIES:Celebracions,Miralcamp
END:VEVENT
BEGIN:VEVENT
DTSTART;TZID=UTC:20230406T180000
DTEND;TZID=UTC:20230406T190000
DTSTAMP:20260423T114040
CREATED:20230405T093228Z
LAST-MODIFIED:20230405T093228Z
UID:6645-1680804000-1680807600@agrupacioparroquialmollerussa.cat
SUMMARY:Mollerussa\, Clausura\, Cena del Senyor\, Missa
DESCRIPTION:
URL:https://agrupacioparroquialmollerussa.cat/calendari/mollerussa-clausura-cena-del-senyor-missa/
LOCATION:Mollerussa
CATEGORIES:Celebracions,Mollerussa
END:VEVENT
BEGIN:VEVENT
DTSTART;TZID=UTC:20230406T173000
DTEND;TZID=UTC:20230406T193000
DTSTAMP:20260423T114040
CREATED:20230405T093724Z
LAST-MODIFIED:20230405T093724Z
UID:6651-1680802200-1680809400@agrupacioparroquialmollerussa.cat
SUMMARY:Vila-sana\, Cena del Senyor\, Missa\, Celebració del Perdó i Vetlla al Santíssim
DESCRIPTION:
URL:https://agrupacioparroquialmollerussa.cat/calendari/vila-sana-cena-del-senyor-missa-celebracio-del-perdo-i-vetlla-al-santissim/
LOCATION:Vila-sana
CATEGORIES:Celebracions,Vila-sana
END:VEVENT
BEGIN:VEVENT
DTSTART;TZID=UTC:20230405T190000
DTEND;TZID=UTC:20230405T200000
DTSTAMP:20260423T114040
CREATED:20230330T145257Z
LAST-MODIFIED:20230330T145257Z
UID:6589-1680721200-1680724800@agrupacioparroquialmollerussa.cat
SUMMARY:Celebració de la Penitència - Perdó
DESCRIPTION:
URL:https://agrupacioparroquialmollerussa.cat/calendari/celebracio-de-la-penitencia-perdo/
LOCATION:El Palau
CATEGORIES:Celebracions,El Palau d'Anglesola
END:VEVENT
BEGIN:VEVENT
DTSTART;TZID=UTC:20230404T200000
DTEND;TZID=UTC:20230404T210000
DTSTAMP:20260423T114040
CREATED:20230330T145350Z
LAST-MODIFIED:20230330T145350Z
UID:6591-1680638400-1680642000@agrupacioparroquialmollerussa.cat
SUMMARY:Celebració de la Penitència - Perdó
DESCRIPTION:
URL:https://agrupacioparroquialmollerussa.cat/calendari/celebracio-de-la-penitencia-perdo-2/
LOCATION:Golmés
CATEGORIES:Celebracions,Golmés
END:VEVENT
BEGIN:VEVENT
DTSTART;TZID=UTC:20230404T193000
DTEND;TZID=UTC:20230404T203000
DTSTAMP:20260423T114040
CREATED:20230330T145655Z
LAST-MODIFIED:20230330T150224Z
UID:6595-1680636600-1680640200@agrupacioparroquialmollerussa.cat
SUMMARY:El Carme\, Celebració de la Penitència - Perdó
DESCRIPTION:
URL:https://agrupacioparroquialmollerussa.cat/calendari/el-carme-celebracio-de-la-penitencia-perdo/
LOCATION:Mollerussa
CATEGORIES:Celebracions,Mollerussa
END:VEVENT
BEGIN:VEVENT
DTSTART;TZID=UTC:20230404T100000
DTEND;TZID=UTC:20230404T110000
DTSTAMP:20260423T114040
CREATED:20230330T145444Z
LAST-MODIFIED:20230330T145444Z
UID:6593-1680602400-1680606000@agrupacioparroquialmollerussa.cat
SUMMARY:Celebració de la Penitència - Perdó
DESCRIPTION:
URL:https://agrupacioparroquialmollerussa.cat/calendari/celebracio-de-la-penitencia-perdo-3/
LOCATION:Miralcamp
CATEGORIES:Celebracions,Miralcamp
END:VEVENT
BEGIN:VEVENT
DTSTART;TZID=UTC:20230402T120000
DTEND;TZID=UTC:20230402T130000
DTSTAMP:20260423T114040
CREATED:20230328T101106Z
LAST-MODIFIED:20230330T150026Z
UID:6575-1680436800-1680440400@agrupacioparroquialmollerussa.cat
SUMMARY:Parròquia\, Missa Diumenge de Rams
DESCRIPTION:
URL:https://agrupacioparroquialmollerussa.cat/calendari/parroquia-missa-diumenge-de-rams/
LOCATION:Mollerussa
CATEGORIES:Celebracions,Mollerussa
END:VEVENT
BEGIN:VEVENT
DTSTART;TZID=UTC:20230402T120000
DTEND;TZID=UTC:20230402T130000
DTSTAMP:20260423T114040
CREATED:20230328T095818Z
LAST-MODIFIED:20230328T100434Z
UID:6563-1680436800-1680440400@agrupacioparroquialmollerussa.cat
SUMMARY:Missa Diumenge de Rams
DESCRIPTION:
URL:https://agrupacioparroquialmollerussa.cat/calendari/missa-diumenge-de-rams/
LOCATION:El Palau
CATEGORIES:Celebracions,El Palau d'Anglesola
END:VEVENT
BEGIN:VEVENT
DTSTART;TZID=UTC:20230402T103000
DTEND;TZID=UTC:20230402T233000
DTSTAMP:20260423T114040
CREATED:20230328T100152Z
LAST-MODIFIED:20230328T100616Z
UID:6569-1680431400-1680478200@agrupacioparroquialmollerussa.cat
SUMMARY:Missa Diumenge de Rams
DESCRIPTION:
URL:https://agrupacioparroquialmollerussa.cat/calendari/missa-diumenge-de-rams-4/
LOCATION:Miralcamp
CATEGORIES:Celebracions,Miralcamp
END:VEVENT
BEGIN:VEVENT
DTSTART;TZID=UTC:20230402T103000
DTEND;TZID=UTC:20230402T113000
DTSTAMP:20260423T114040
CREATED:20230328T101844Z
LAST-MODIFIED:20230328T101844Z
UID:6579-1680431400-1680435000@agrupacioparroquialmollerussa.cat
SUMMARY:Missa Diumenge de Rams
DESCRIPTION:
URL:https://agrupacioparroquialmollerussa.cat/calendari/missa-diumenge-de-rams-6/
LOCATION:Vila-sana
CATEGORIES:Celebracions,Vila-sana
END:VEVENT
BEGIN:VEVENT
DTSTART;TZID=UTC:20230402T093000
DTEND;TZID=UTC:20230402T103000
DTSTAMP:20260423T114040
CREATED:20230328T100950Z
LAST-MODIFIED:20230328T101451Z
UID:6573-1680427800-1680431400@agrupacioparroquialmollerussa.cat
SUMMARY:Clausura\, Missa Diumenge de Rams
DESCRIPTION:
URL:https://agrupacioparroquialmollerussa.cat/calendari/clausura-missa-diumenge-de-rams/
LOCATION:Mollerussa
CATEGORIES:Celebracions,Mollerussa
END:VEVENT
BEGIN:VEVENT
DTSTART;TZID=UTC:20230402T080000
DTEND;TZID=UTC:20230402T170000
DTSTAMP:20260423T114040
CREATED:20230328T101153Z
LAST-MODIFIED:20230328T101237Z
UID:6577-1680422400-1680454800@agrupacioparroquialmollerussa.cat
SUMMARY:Missa Diumenge de Rams
DESCRIPTION:
URL:https://agrupacioparroquialmollerussa.cat/calendari/missa-diumenge-de-rams-5/
LOCATION:Sidamon
CATEGORIES:Celebracions,Sidamon
END:VEVENT
BEGIN:VEVENT
DTSTART;VALUE=DATE:20230402
DTEND;VALUE=DATE:20230403
DTSTAMP:20260423T114040
CREATED:20230316T095901Z
LAST-MODIFIED:20230316T095901Z
UID:6405-1680393600-1680479999@agrupacioparroquialmollerussa.cat
SUMMARY:Diumenge de Rams
DESCRIPTION:
URL:https://agrupacioparroquialmollerussa.cat/calendari/diumenge-de-rams-11/
CATEGORIES:Agrupació Parroquial,Celebracions
END:VEVENT
BEGIN:VEVENT
DTSTART;TZID=UTC:20230401T200000
DTEND;TZID=UTC:20230401T210000
DTSTAMP:20260423T114040
CREATED:20230328T100040Z
LAST-MODIFIED:20230328T100737Z
UID:6567-1680379200-1680382800@agrupacioparroquialmollerussa.cat
SUMMARY:Missa Diumenge de Rams
DESCRIPTION:
URL:https://agrupacioparroquialmollerussa.cat/calendari/missa-diumenge-de-rams-3/
LOCATION:Golmés
CATEGORIES:Celebracions,Golmés
END:VEVENT
BEGIN:VEVENT
DTSTART;TZID=UTC:20230401T193000
DTEND;TZID=UTC:20230401T203000
DTSTAMP:20260423T114040
CREATED:20230328T100320Z
LAST-MODIFIED:20230328T100320Z
UID:6571-1680377400-1680381000@agrupacioparroquialmollerussa.cat
SUMMARY:El Carme\, Missa Diumenge de Rams
DESCRIPTION:
URL:https://agrupacioparroquialmollerussa.cat/calendari/el-carme-missa-diumenge-de-rams/
LOCATION:Mollerussa
CATEGORIES:Celebracions,Mollerussa
END:VEVENT
END:VCALENDAR