BEGIN:VCALENDAR
VERSION:2.0
PRODID:-//Agrupació Parroquial Mollerussa - ECPv6.14.0//NONSGML v1.0//EN
CALSCALE:GREGORIAN
METHOD:PUBLISH
X-WR-CALNAME:Agrupació Parroquial Mollerussa
X-ORIGINAL-URL:https://agrupacioparroquialmollerussa.cat
X-WR-CALDESC:Esdeveniments per Agrupació Parroquial Mollerussa
REFRESH-INTERVAL;VALUE=DURATION:PT1H
X-Robots-Tag:noindex
X-PUBLISHED-TTL:PT1H
BEGIN:VTIMEZONE
TZID:UTC
BEGIN:STANDARD
TZOFFSETFROM:+0000
TZOFFSETTO:+0000
TZNAME:UTC
DTSTART:20220101T000000
END:STANDARD
END:VTIMEZONE
BEGIN:VEVENT
DTSTART;VALUE=DATE:20221226
DTEND;VALUE=DATE:20221227
DTSTAMP:20260423T170639
CREATED:20220127T104703Z
LAST-MODIFIED:20220127T104703Z
UID:4462-1672012800-1672099199@agrupacioparroquialmollerussa.cat
SUMMARY:Sant Esteve
DESCRIPTION:
URL:https://agrupacioparroquialmollerussa.cat/calendari/sant-esteve/
CATEGORIES:Agrupació Parroquial,Celebracions
END:VEVENT
BEGIN:VEVENT
DTSTART;VALUE=DATE:20221225
DTEND;VALUE=DATE:20221226
DTSTAMP:20260423T170639
CREATED:20220127T104630Z
LAST-MODIFIED:20220127T104630Z
UID:4460-1671926400-1672012799@agrupacioparroquialmollerussa.cat
SUMMARY:Nadal de Nostre Senyor Jesucrist
DESCRIPTION:
URL:https://agrupacioparroquialmollerussa.cat/calendari/nadal-de-nostre-senyor-jesucrist/
CATEGORIES:Agrupació Parroquial,Celebracions
END:VEVENT
BEGIN:VEVENT
DTSTART;VALUE=DATE:20221218
DTEND;VALUE=DATE:20221219
DTSTAMP:20260423T170639
CREATED:20220127T104544Z
LAST-MODIFIED:20220127T104544Z
UID:4458-1671321600-1671407999@agrupacioparroquialmollerussa.cat
SUMMARY:Quart Diumenge d'Advent
DESCRIPTION:
URL:https://agrupacioparroquialmollerussa.cat/calendari/quart-diumenge-dadvent/
CATEGORIES:Agrupació Parroquial,Celebracions
END:VEVENT
BEGIN:VEVENT
DTSTART;VALUE=DATE:20221214
DTEND;VALUE=DATE:20221215
DTSTAMP:20260423T170639
CREATED:20220127T104443Z
LAST-MODIFIED:20220127T104443Z
UID:4456-1670976000-1671062399@agrupacioparroquialmollerussa.cat
SUMMARY:Festa de les Germanes Carmelites Descalces
DESCRIPTION:
URL:https://agrupacioparroquialmollerussa.cat/calendari/festa-de-les-germanes-carmelites-descalces/
LOCATION:Mollerussa
CATEGORIES:Celebracions,Mollerussa
END:VEVENT
BEGIN:VEVENT
DTSTART;VALUE=DATE:20221213
DTEND;VALUE=DATE:20221214
DTSTAMP:20260423T170639
CREATED:20220127T104328Z
LAST-MODIFIED:20220127T104328Z
UID:4454-1670889600-1670975999@agrupacioparroquialmollerussa.cat
SUMMARY:Celebració en honor de Santa Llúcia
DESCRIPTION:
URL:https://agrupacioparroquialmollerussa.cat/calendari/celebracio-en-honor-de-santa-llucia/
LOCATION:El Palau
CATEGORIES:Celebracions,El Palau d'Anglesola
END:VEVENT
BEGIN:VEVENT
DTSTART;VALUE=DATE:20221211
DTEND;VALUE=DATE:20221212
DTSTAMP:20260423T170639
CREATED:20220127T104225Z
LAST-MODIFIED:20220127T104225Z
UID:4452-1670716800-1670803199@agrupacioparroquialmollerussa.cat
SUMMARY:Tercer Diumenge d'Advent
DESCRIPTION:
URL:https://agrupacioparroquialmollerussa.cat/calendari/tercer-diumenge-dadvent/
CATEGORIES:Agrupació Parroquial,Celebracions
END:VEVENT
BEGIN:VEVENT
DTSTART;VALUE=DATE:20221208
DTEND;VALUE=DATE:20221209
DTSTAMP:20260423T170639
CREATED:20220127T104117Z
LAST-MODIFIED:20220127T104134Z
UID:4449-1670457600-1670543999@agrupacioparroquialmollerussa.cat
SUMMARY:La Immaculada Concepció de Maria
DESCRIPTION:
URL:https://agrupacioparroquialmollerussa.cat/calendari/la-immaculada-concepcio-de-maria/
CATEGORIES:Agrupació Parroquial,Celebracions
END:VEVENT
BEGIN:VEVENT
DTSTART;VALUE=DATE:20221204
DTEND;VALUE=DATE:20221205
DTSTAMP:20260423T170639
CREATED:20220127T104018Z
LAST-MODIFIED:20220127T104018Z
UID:4447-1670112000-1670198399@agrupacioparroquialmollerussa.cat
SUMMARY:Segon Diumenge d'Advent
DESCRIPTION:
URL:https://agrupacioparroquialmollerussa.cat/calendari/segon-diumenge-dadvent/
CATEGORIES:Agrupació Parroquial,Celebracions
END:VEVENT
BEGIN:VEVENT
DTSTART;VALUE=DATE:20221127
DTEND;VALUE=DATE:20221128
DTSTAMP:20260423T170639
CREATED:20220127T103839Z
LAST-MODIFIED:20220127T103839Z
UID:4443-1669507200-1669593599@agrupacioparroquialmollerussa.cat
SUMMARY:Primer Diumenge d'Advent
DESCRIPTION:
URL:https://agrupacioparroquialmollerussa.cat/calendari/primer-diumenge-dadvent/
CATEGORIES:Agrupació Parroquial,Celebracions
END:VEVENT
BEGIN:VEVENT
DTSTART;VALUE=DATE:20221120
DTEND;VALUE=DATE:20221121
DTSTAMP:20260423T170639
CREATED:20220127T103923Z
LAST-MODIFIED:20220127T103923Z
UID:4445-1668902400-1668988799@agrupacioparroquialmollerussa.cat
SUMMARY:Solemnitat  de Jesucrist Rei
DESCRIPTION:
URL:https://agrupacioparroquialmollerussa.cat/calendari/solemnitat-de-jesucrist-rei/
CATEGORIES:Agrupació Parroquial,Celebracions
END:VEVENT
BEGIN:VEVENT
DTSTART;VALUE=DATE:20221109
DTEND;VALUE=DATE:20221110
DTSTAMP:20260423T170639
CREATED:20220127T103716Z
LAST-MODIFIED:20220127T103716Z
UID:4441-1667952000-1668038399@agrupacioparroquialmollerussa.cat
SUMMARY:Dedicació de la Basilica del Laterà
DESCRIPTION:
URL:https://agrupacioparroquialmollerussa.cat/calendari/dedicacio-de-la-basilica-del-latera/
CATEGORIES:Agrupació Parroquial,Celebracions
END:VEVENT
BEGIN:VEVENT
DTSTART;TZID=UTC:20221106T103000
DTEND;TZID=UTC:20221106T113000
DTSTAMP:20260423T170639
CREATED:20220127T103552Z
LAST-MODIFIED:20220127T103552Z
UID:4439-1667730600-1667734200@agrupacioparroquialmollerussa.cat
SUMMARY:Memoria del Beat Pare Tarsici
DESCRIPTION:
URL:https://agrupacioparroquialmollerussa.cat/calendari/memoria-del-beat-pare-tarsici/
LOCATION:Miralcamp
CATEGORIES:Celebracions,Miralcamp
END:VEVENT
BEGIN:VEVENT
DTSTART;VALUE=DATE:20221105
DTEND;VALUE=DATE:20221106
DTSTAMP:20260423T170639
CREATED:20220127T103434Z
LAST-MODIFIED:20220127T103434Z
UID:4437-1667606400-1667692799@agrupacioparroquialmollerussa.cat
SUMMARY:Memoria dels Beats màrtirs
DESCRIPTION:
URL:https://agrupacioparroquialmollerussa.cat/calendari/memoria-dels-beats-martirs-2/
LOCATION:Mollerussa
CATEGORIES:Celebracions,Mollerussa
END:VEVENT
BEGIN:VEVENT
DTSTART;VALUE=DATE:20221102
DTEND;VALUE=DATE:20221103
DTSTAMP:20260423T170639
CREATED:20220127T103220Z
LAST-MODIFIED:20220127T103220Z
UID:4434-1667347200-1667433599@agrupacioparroquialmollerussa.cat
SUMMARY:Commemoracio de tots els Fidels Difunts
DESCRIPTION:
URL:https://agrupacioparroquialmollerussa.cat/calendari/commemoracio-de-tots-els-fidels-difunts/
CATEGORIES:Agrupació Parroquial,Celebracions
END:VEVENT
BEGIN:VEVENT
DTSTART;VALUE=DATE:20221101
DTEND;VALUE=DATE:20221102
DTSTAMP:20260423T170639
CREATED:20220127T103133Z
LAST-MODIFIED:20220127T103133Z
UID:4432-1667260800-1667347199@agrupacioparroquialmollerussa.cat
SUMMARY:Festa de Tots Sants
DESCRIPTION:
URL:https://agrupacioparroquialmollerussa.cat/calendari/festa-de-tots-sants-2/
CATEGORIES:Agrupació Parroquial,Celebracions
END:VEVENT
BEGIN:VEVENT
DTSTART;VALUE=DATE:20221012
DTEND;VALUE=DATE:20221013
DTSTAMP:20260423T170639
CREATED:20220127T103016Z
LAST-MODIFIED:20220127T103016Z
UID:4430-1665532800-1665619199@agrupacioparroquialmollerussa.cat
SUMMARY:Mare de Déu del Pilar
DESCRIPTION:
URL:https://agrupacioparroquialmollerussa.cat/calendari/mare-de-deu-del-pilar/
CATEGORIES:Agrupació Parroquial,Celebracions
END:VEVENT
BEGIN:VEVENT
DTSTART;TZID=UTC:20221002T120000
DTEND;TZID=UTC:20221002T130000
DTSTAMP:20260423T170639
CREATED:20220127T102930Z
LAST-MODIFIED:20220127T102930Z
UID:4428-1664712000-1664715600@agrupacioparroquialmollerussa.cat
SUMMARY:Presentació del Senyor. Festa dels jubilats
DESCRIPTION:
URL:https://agrupacioparroquialmollerussa.cat/calendari/presentacio-del-senyor-festa-dels-jubilats/
LOCATION:Sidamon
CATEGORIES:Celebracions,Sidamon
END:VEVENT
BEGIN:VEVENT
DTSTART;VALUE=DATE:20221002
DTEND;VALUE=DATE:20221003
DTSTAMP:20260423T170639
CREATED:20220127T102806Z
LAST-MODIFIED:20220127T102806Z
UID:4426-1664668800-1664755199@agrupacioparroquialmollerussa.cat
SUMMARY:Presentació del Senyor
DESCRIPTION:
URL:https://agrupacioparroquialmollerussa.cat/calendari/presentacio-del-senyor/
CATEGORIES:Agrupació Parroquial,Celebracions
END:VEVENT
BEGIN:VEVENT
DTSTART;TZID=UTC:20220929T100000
DTEND;TZID=UTC:20220929T110000
DTSTAMP:20260423T170639
CREATED:20220127T102654Z
LAST-MODIFIED:20220127T102654Z
UID:4424-1664445600-1664449200@agrupacioparroquialmollerussa.cat
SUMMARY:Sant Miquel\, patró titular de la parròquia
DESCRIPTION:
URL:https://agrupacioparroquialmollerussa.cat/calendari/sant-miquel-patro-titular-de-la-parroquia/
LOCATION:Miralcamp
CATEGORIES:Celebracions,Miralcamp
END:VEVENT
BEGIN:VEVENT
DTSTART;VALUE=DATE:20220925
DTEND;VALUE=DATE:20220926
DTSTAMP:20260423T170639
CREATED:20220127T102442Z
LAST-MODIFIED:20220127T102442Z
UID:4422-1664064000-1664150399@agrupacioparroquialmollerussa.cat
SUMMARY:Festa Major en honor de Sant Miquel
DESCRIPTION:
URL:https://agrupacioparroquialmollerussa.cat/calendari/festa-major-en-honor-de-sant-miquel-2/
LOCATION:Vila-sana
CATEGORIES:Celebracions,Vila-sana
END:VEVENT
BEGIN:VEVENT
DTSTART;VALUE=DATE:20220911
DTEND;VALUE=DATE:20220912
DTSTAMP:20260423T170639
CREATED:20220127T102338Z
LAST-MODIFIED:20220127T102338Z
UID:4420-1662854400-1662940799@agrupacioparroquialmollerussa.cat
SUMMARY:Diada Nacional de Catalunya
DESCRIPTION:
URL:https://agrupacioparroquialmollerussa.cat/calendari/diada-nacional-de-catalunya/
CATEGORIES:Agrupació Parroquial
END:VEVENT
BEGIN:VEVENT
DTSTART;VALUE=DATE:20220908
DTEND;VALUE=DATE:20220909
DTSTAMP:20260423T170639
CREATED:20220127T102304Z
LAST-MODIFIED:20220127T102304Z
UID:4418-1662595200-1662681599@agrupacioparroquialmollerussa.cat
SUMMARY:Nativitat de la Mare de Déu
DESCRIPTION:
URL:https://agrupacioparroquialmollerussa.cat/calendari/nativitat-de-la-mare-de-deu/
CATEGORIES:Agrupació Parroquial,Celebracions
END:VEVENT
BEGIN:VEVENT
DTSTART;VALUE=DATE:20220906
DTEND;VALUE=DATE:20220907
DTSTAMP:20260423T170639
CREATED:20220127T102217Z
LAST-MODIFIED:20220127T102217Z
UID:4416-1662422400-1662508799@agrupacioparroquialmollerussa.cat
SUMMARY:Festa Major votada en honor de Sant Sebastià
DESCRIPTION:
URL:https://agrupacioparroquialmollerussa.cat/calendari/festa-major-votada-en-honor-de-sant-sebastia-2/
LOCATION:Fondarella
CATEGORIES:Celebracions,Fondarella
END:VEVENT
BEGIN:VEVENT
DTSTART;VALUE=DATE:20220828
DTEND;VALUE=DATE:20220829
DTSTAMP:20260423T170639
CREATED:20220127T102031Z
LAST-MODIFIED:20220127T102031Z
UID:4414-1661644800-1661731199@agrupacioparroquialmollerussa.cat
SUMMARY:Festa Major en honor del martiri de Sant Joan Baptista
DESCRIPTION:
URL:https://agrupacioparroquialmollerussa.cat/calendari/festa-major-en-honor-del-martiri-de-sant-joan-baptista-2/
LOCATION:El Palau
CATEGORIES:Celebracions,El Palau d'Anglesola
END:VEVENT
BEGIN:VEVENT
DTSTART;VALUE=DATE:20220827
DTEND;VALUE=DATE:20220830
DTSTAMP:20260423T170639
CREATED:20220127T101931Z
LAST-MODIFIED:20220127T101931Z
UID:4412-1661558400-1661817599@agrupacioparroquialmollerussa.cat
SUMMARY:Festa Major en honor a Sant Ramon Nonat
DESCRIPTION:
URL:https://agrupacioparroquialmollerussa.cat/calendari/festa-major-en-honor-a-sant-ramon-nonat/
LOCATION:Miralcamp
CATEGORIES:Celebracions,Miralcamp
END:VEVENT
BEGIN:VEVENT
DTSTART;VALUE=DATE:20220824
DTEND;VALUE=DATE:20220825
DTSTAMP:20260423T170639
CREATED:20220127T101719Z
LAST-MODIFIED:20220127T101719Z
UID:4410-1661299200-1661385599@agrupacioparroquialmollerussa.cat
SUMMARY:Festa Major en honor a Sant Bartomeu
DESCRIPTION:
URL:https://agrupacioparroquialmollerussa.cat/calendari/festa-major-en-honor-a-sant-bartomeu/
LOCATION:Sidamon
CATEGORIES:Celebracions,Sidamon
END:VEVENT
BEGIN:VEVENT
DTSTART;VALUE=DATE:20220816
DTEND;VALUE=DATE:20220817
DTSTAMP:20260423T170639
CREATED:20220127T101536Z
LAST-MODIFIED:20220127T101600Z
UID:4407-1660608000-1660694399@agrupacioparroquialmollerussa.cat
SUMMARY:Festa de Sant Roc
DESCRIPTION:
URL:https://agrupacioparroquialmollerussa.cat/calendari/sant-roc/
LOCATION:El Palau
CATEGORIES:Celebracions,El Palau d'Anglesola
END:VEVENT
BEGIN:VEVENT
DTSTART;VALUE=DATE:20220815
DTEND;VALUE=DATE:20220816
DTSTAMP:20260423T170639
CREATED:20220127T101414Z
LAST-MODIFIED:20220127T101414Z
UID:4405-1660521600-1660607999@agrupacioparroquialmollerussa.cat
SUMMARY:L'Assumpció de la Mare de Déu
DESCRIPTION:
URL:https://agrupacioparroquialmollerussa.cat/calendari/lassumpcio-de-la-mare-de-deu/
CATEGORIES:Agrupació Parroquial,Celebracions
END:VEVENT
BEGIN:VEVENT
DTSTART;VALUE=DATE:20220813
DTEND;VALUE=DATE:20220814
DTSTAMP:20260423T170639
CREATED:20220127T101324Z
LAST-MODIFIED:20220127T101324Z
UID:4403-1660348800-1660435199@agrupacioparroquialmollerussa.cat
SUMMARY:Memoria del Beat Antoni Dalmau
DESCRIPTION:
URL:https://agrupacioparroquialmollerussa.cat/calendari/memoria-del-beat-antoni-dalmau-2/
LOCATION:Miralcamp
CATEGORIES:Celebracions,Miralcamp
END:VEVENT
BEGIN:VEVENT
DTSTART;VALUE=DATE:20220812
DTEND;VALUE=DATE:20220813
DTSTAMP:20260423T170639
CREATED:20220127T101222Z
LAST-MODIFIED:20220127T101222Z
UID:4401-1660262400-1660348799@agrupacioparroquialmollerussa.cat
SUMMARY:Memoria del Beat Lluís Escalé
DESCRIPTION:
URL:https://agrupacioparroquialmollerussa.cat/calendari/memoria-del-beat-lluis-escale-2/
LOCATION:Fondarella
CATEGORIES:Celebracions,Fondarella
END:VEVENT
END:VCALENDAR