BEGIN:VCALENDAR
VERSION:2.0
PRODID:-//Agrupació Parroquial Mollerussa - ECPv6.14.0//NONSGML v1.0//EN
CALSCALE:GREGORIAN
METHOD:PUBLISH
X-WR-CALNAME:Agrupació Parroquial Mollerussa
X-ORIGINAL-URL:https://agrupacioparroquialmollerussa.cat
X-WR-CALDESC:Esdeveniments per Agrupació Parroquial Mollerussa
REFRESH-INTERVAL;VALUE=DURATION:PT1H
X-Robots-Tag:noindex
X-PUBLISHED-TTL:PT1H
BEGIN:VTIMEZONE
TZID:UTC
BEGIN:STANDARD
TZOFFSETFROM:+0000
TZOFFSETTO:+0000
TZNAME:UTC
DTSTART:20220101T000000
END:STANDARD
END:VTIMEZONE
BEGIN:VEVENT
DTSTART;VALUE=DATE:20220624
DTEND;VALUE=DATE:20220625
DTSTAMP:20260423T211731
CREATED:20220127T100328Z
LAST-MODIFIED:20220127T100437Z
UID:4391-1656028800-1656115199@agrupacioparroquialmollerussa.cat
SUMMARY:Sant Joan Baptista
DESCRIPTION:
URL:https://agrupacioparroquialmollerussa.cat/calendari/sant-joan-baptista/
CATEGORIES:Agrupació Parroquial,Celebracions
END:VEVENT
BEGIN:VEVENT
DTSTART;VALUE=DATE:20220607
DTEND;VALUE=DATE:20220608
DTSTAMP:20260423T211731
CREATED:20220127T100041Z
LAST-MODIFIED:20220127T100041Z
UID:4387-1654560000-1654646399@agrupacioparroquialmollerussa.cat
SUMMARY:Festa Major de Sant Salvador. Vot de poble
DESCRIPTION:
URL:https://agrupacioparroquialmollerussa.cat/calendari/festa-major-de-sant-salvador-vot-de-poble/
LOCATION:Golmés
CATEGORIES:Celebracions,Golmés
END:VEVENT
BEGIN:VEVENT
DTSTART;TZID=UTC:20220606T080000
DTEND;TZID=UTC:20220606T170000
DTSTAMP:20260423T211731
CREATED:20220127T095938Z
LAST-MODIFIED:20220127T095938Z
UID:4385-1654502400-1654534800@agrupacioparroquialmollerussa.cat
SUMMARY:Festa de Pentacosta
DESCRIPTION:
URL:https://agrupacioparroquialmollerussa.cat/calendari/festa-de-pentacosta/
CATEGORIES:Agrupació Parroquial,Celebracions
END:VEVENT
BEGIN:VEVENT
DTSTART;VALUE=DATE:20220606
DTEND;VALUE=DATE:20220607
DTSTAMP:20260423T211731
CREATED:20220127T095844Z
LAST-MODIFIED:20220127T095844Z
UID:4383-1654473600-1654559999@agrupacioparroquialmollerussa.cat
SUMMARY:Vot de poble a Sant Sebastia
DESCRIPTION:
URL:https://agrupacioparroquialmollerussa.cat/calendari/vot-de-poble-a-sant-sebastia/
LOCATION:Miralcamp
CATEGORIES:Celebracions,Miralcamp
END:VEVENT
BEGIN:VEVENT
DTSTART;VALUE=DATE:20220522
DTEND;VALUE=DATE:20220523
DTSTAMP:20260423T211731
CREATED:20220127T095728Z
LAST-MODIFIED:20220127T095728Z
UID:4381-1653177600-1653263999@agrupacioparroquialmollerussa.cat
SUMMARY:Santa Joaquima de Vedruna. Fundadora de les germanes Carmelites Vedruna
DESCRIPTION:
URL:https://agrupacioparroquialmollerussa.cat/calendari/santa-joaquima-de-vedruna-fundadora-de-les-germanes-carmelites-vedruna-2/
LOCATION:Mollerussa
CATEGORIES:Agrupació Parroquial,Mollerussa
END:VEVENT
BEGIN:VEVENT
DTSTART;VALUE=DATE:20220515
DTEND;VALUE=DATE:20220516
DTSTAMP:20260423T211731
CREATED:20220127T095609Z
LAST-MODIFIED:20220127T095609Z
UID:4379-1652572800-1652659199@agrupacioparroquialmollerussa.cat
SUMMARY:Festa de la Germandat de Sant Bartomeu
DESCRIPTION:
URL:https://agrupacioparroquialmollerussa.cat/calendari/festa-de-la-germandat-de-sant-bartomeu-2/
LOCATION:Sidamon
CATEGORIES:Celebracions,Sidamon
END:VEVENT
BEGIN:VEVENT
DTSTART;VALUE=DATE:20220501
DTEND;VALUE=DATE:20220502
DTSTAMP:20260423T211731
CREATED:20220127T085737Z
LAST-MODIFIED:20220127T090927Z
UID:4356-1651363200-1651449599@agrupacioparroquialmollerussa.cat
SUMMARY:Sant Pere Martir\, benedicció de rams\, pregaria per bones collites
DESCRIPTION:
URL:https://agrupacioparroquialmollerussa.cat/calendari/diumenge-de-resurreccio/
LOCATION:Sidamon
CATEGORIES:Celebracions,Sidamon
END:VEVENT
BEGIN:VEVENT
DTSTART;VALUE=DATE:20220427
DTEND;VALUE=DATE:20220428
DTSTAMP:20260423T211731
CREATED:20220127T095348Z
LAST-MODIFIED:20220127T095348Z
UID:4376-1651017600-1651103999@agrupacioparroquialmollerussa.cat
SUMMARY:Festa de la Mare de Déu de Montserrat
DESCRIPTION:
URL:https://agrupacioparroquialmollerussa.cat/calendari/festa-de-la-mare-de-deu-de-montserrat/
CATEGORIES:Celebracions,El Palau d'Anglesola,Golmés,Miralcamp,Mollerussa
END:VEVENT
BEGIN:VEVENT
DTSTART;VALUE=DATE:20220424
DTEND;VALUE=DATE:20220425
DTSTAMP:20260423T211731
CREATED:20220127T095247Z
LAST-MODIFIED:20220127T095247Z
UID:4374-1650758400-1650844799@agrupacioparroquialmollerussa.cat
SUMMARY:Festa de la Mare de Déu de la Cabeza
DESCRIPTION:
URL:https://agrupacioparroquialmollerussa.cat/calendari/festa-de-la-mare-de-deu-de-la-cabeza-2/
LOCATION:Vila-sana
CATEGORIES:Celebracions,Vila-sana
END:VEVENT
BEGIN:VEVENT
DTSTART;VALUE=DATE:20220423
DTEND;VALUE=DATE:20220424
DTSTAMP:20260423T211731
CREATED:20220127T095141Z
LAST-MODIFIED:20220127T095141Z
UID:4372-1650672000-1650758399@agrupacioparroquialmollerussa.cat
SUMMARY:Missa de vot de poble
DESCRIPTION:
URL:https://agrupacioparroquialmollerussa.cat/calendari/missa-de-vot-de-poble/
LOCATION:Mollerussa
CATEGORIES:Celebracions,Mollerussa
END:VEVENT
BEGIN:VEVENT
DTSTART;VALUE=DATE:20220419
DTEND;VALUE=DATE:20220424
DTSTAMP:20260423T211731
CREATED:20220127T095043Z
LAST-MODIFIED:20220127T095043Z
UID:4370-1650326400-1650758399@agrupacioparroquialmollerussa.cat
SUMMARY:Setmana de Sant Isidori
DESCRIPTION:
URL:https://agrupacioparroquialmollerussa.cat/calendari/setmana-de-sant-isidori-2/
LOCATION:Mollerussa
CATEGORIES:Mollerussa
END:VEVENT
BEGIN:VEVENT
DTSTART;TZID=UTC:20220418T100000
DTEND;TZID=UTC:20220418T110000
DTSTAMP:20260423T211731
CREATED:20220404T100454Z
LAST-MODIFIED:20220404T100454Z
UID:4950-1650276000-1650279600@agrupacioparroquialmollerussa.cat
SUMMARY:Missa Vot de Poble
DESCRIPTION:
URL:https://agrupacioparroquialmollerussa.cat/calendari/missa-vot-de-poble/
LOCATION:Miralcamp
CATEGORIES:Celebracions,Miralcamp
END:VEVENT
BEGIN:VEVENT
DTSTART;VALUE=DATE:20220418
DTEND;VALUE=DATE:20220419
DTSTAMP:20260423T211731
CREATED:20220127T094607Z
LAST-MODIFIED:20220127T094607Z
UID:4368-1650240000-1650326399@agrupacioparroquialmollerussa.cat
SUMMARY:Dilluns de Pasqua
DESCRIPTION:
URL:https://agrupacioparroquialmollerussa.cat/calendari/dilluns-de-pasqua/
CATEGORIES:Agrupació Parroquial
END:VEVENT
BEGIN:VEVENT
DTSTART;TZID=UTC:20220417T120000
DTEND;TZID=UTC:20220417T130000
DTSTAMP:20260423T211731
CREATED:20220404T095144Z
LAST-MODIFIED:20220404T100707Z
UID:4946-1650196800-1650200400@agrupacioparroquialmollerussa.cat
SUMMARY:Diumenge de Pasqua
DESCRIPTION:
URL:https://agrupacioparroquialmollerussa.cat/calendari/diumenge-de-pasqua-7/
LOCATION:Sidamon
CATEGORIES:Celebracions,Sidamon
END:VEVENT
BEGIN:VEVENT
DTSTART;TZID=UTC:20220417T120000
DTEND;TZID=UTC:20220417T130000
DTSTAMP:20260423T211731
CREATED:20220404T095107Z
LAST-MODIFIED:20220404T102820Z
UID:4944-1650196800-1650200400@agrupacioparroquialmollerussa.cat
SUMMARY:Diumenge de Pasqua - Parròquia
DESCRIPTION:
URL:https://agrupacioparroquialmollerussa.cat/calendari/diumenge-de-pasqua-6/
LOCATION:Mollerussa
CATEGORIES:Celebracions,Mollerussa
END:VEVENT
BEGIN:VEVENT
DTSTART;TZID=UTC:20220417T120000
DTEND;TZID=UTC:20220417T130000
DTSTAMP:20260423T211731
CREATED:20220404T094746Z
LAST-MODIFIED:20220404T094746Z
UID:4938-1650196800-1650200400@agrupacioparroquialmollerussa.cat
SUMMARY:Diumenge de Pasqua
DESCRIPTION:
URL:https://agrupacioparroquialmollerussa.cat/calendari/diumenge-de-pasqua-3/
LOCATION:Golmés
CATEGORIES:Celebracions,Golmés
END:VEVENT
BEGIN:VEVENT
DTSTART;TZID=UTC:20220417T120000
DTEND;TZID=UTC:20220417T130000
DTSTAMP:20260423T211731
CREATED:20220404T094559Z
LAST-MODIFIED:20220404T094559Z
UID:4934-1650196800-1650200400@agrupacioparroquialmollerussa.cat
SUMMARY:Diumenge de Pasqua
DESCRIPTION:
URL:https://agrupacioparroquialmollerussa.cat/calendari/diumenge-de-pasqua/
LOCATION:El Palau
CATEGORIES:Celebracions,El Palau d'Anglesola
END:VEVENT
BEGIN:VEVENT
DTSTART;TZID=UTC:20220417T103000
DTEND;TZID=UTC:20220417T113000
DTSTAMP:20260423T211731
CREATED:20220404T095228Z
LAST-MODIFIED:20220404T095228Z
UID:4948-1650191400-1650195000@agrupacioparroquialmollerussa.cat
SUMMARY:Diumenge de Pasqua
DESCRIPTION:
URL:https://agrupacioparroquialmollerussa.cat/calendari/diumenge-de-pasqua-8/
CATEGORIES:Celebracions,Vila-sana
END:VEVENT
BEGIN:VEVENT
DTSTART;TZID=UTC:20220417T103000
DTEND;TZID=UTC:20220417T113000
DTSTAMP:20260423T211731
CREATED:20220404T094851Z
LAST-MODIFIED:20220404T094851Z
UID:4940-1650191400-1650195000@agrupacioparroquialmollerussa.cat
SUMMARY:Diumenge de Pasqua
DESCRIPTION:
URL:https://agrupacioparroquialmollerussa.cat/calendari/diumenge-de-pasqua-4/
LOCATION:Miralcamp
CATEGORIES:Celebracions,Miralcamp
END:VEVENT
BEGIN:VEVENT
DTSTART;TZID=UTC:20220417T103000
DTEND;TZID=UTC:20220417T113000
DTSTAMP:20260423T211731
CREATED:20220404T094656Z
LAST-MODIFIED:20220404T094656Z
UID:4936-1650191400-1650195000@agrupacioparroquialmollerussa.cat
SUMMARY:Diumenge de Pasqua
DESCRIPTION:
URL:https://agrupacioparroquialmollerussa.cat/calendari/diumenge-de-pasqua-2/
LOCATION:Fondarella
CATEGORIES:Celebracions,Fondarella
END:VEVENT
BEGIN:VEVENT
DTSTART;TZID=UTC:20220417T093000
DTEND;TZID=UTC:20220417T103000
DTSTAMP:20260423T211731
CREATED:20220404T095007Z
LAST-MODIFIED:20220404T102954Z
UID:4942-1650187800-1650191400@agrupacioparroquialmollerussa.cat
SUMMARY:Diumenge de Pasqua - Clausura
DESCRIPTION:
URL:https://agrupacioparroquialmollerussa.cat/calendari/diumenge-de-pasqua-5/
LOCATION:Mollerussa
CATEGORIES:Celebracions,Mollerussa
END:VEVENT
BEGIN:VEVENT
DTSTART;VALUE=DATE:20220417
DTEND;VALUE=DATE:20220418
DTSTAMP:20260423T211731
CREATED:20220127T091138Z
LAST-MODIFIED:20220127T091138Z
UID:4366-1650153600-1650239999@agrupacioparroquialmollerussa.cat
SUMMARY:Diumenge de Resurrecció
DESCRIPTION:
URL:https://agrupacioparroquialmollerussa.cat/calendari/diumenge-de-resurreccio-2/
CATEGORIES:Agrupació Parroquial,Celebracions
END:VEVENT
BEGIN:VEVENT
DTSTART;TZID=UTC:20220416T213000
DTEND;TZID=UTC:20220416T230000
DTSTAMP:20260423T211731
CREATED:20220404T094459Z
LAST-MODIFIED:20220404T102645Z
UID:4932-1650144600-1650150000@agrupacioparroquialmollerussa.cat
SUMMARY:Vetlla Pasqual - Parròquia
DESCRIPTION:
URL:https://agrupacioparroquialmollerussa.cat/calendari/vetlla-pasqual-3/
LOCATION:Mollerussa
CATEGORIES:Celebracions,Mollerussa
END:VEVENT
BEGIN:VEVENT
DTSTART;TZID=UTC:20220416T210000
DTEND;TZID=UTC:20220416T223000
DTSTAMP:20260423T211731
CREATED:20220404T094410Z
LAST-MODIFIED:20220404T102726Z
UID:4930-1650142800-1650148200@agrupacioparroquialmollerussa.cat
SUMMARY:Vetlla Pasqual - Clausura
DESCRIPTION:
URL:https://agrupacioparroquialmollerussa.cat/calendari/vetlla-pasqual-2/
LOCATION:Mollerussa
CATEGORIES:Celebracions,Mollerussa
END:VEVENT
BEGIN:VEVENT
DTSTART;TZID=UTC:20220416T210000
DTEND;TZID=UTC:20220416T220000
DTSTAMP:20260423T211731
CREATED:20220404T094248Z
LAST-MODIFIED:20220404T094248Z
UID:4928-1650142800-1650146400@agrupacioparroquialmollerussa.cat
SUMMARY:Vetlla Pasqual
DESCRIPTION:
URL:https://agrupacioparroquialmollerussa.cat/calendari/vetlla-pasqual/
LOCATION:El Palau
CATEGORIES:Celebracions,El Palau d'Anglesola
END:VEVENT
BEGIN:VEVENT
DTSTART;TZID=UTC:20220415T190000
DTEND;TZID=UTC:20220415T200000
DTSTAMP:20260423T211731
CREATED:20220404T094145Z
LAST-MODIFIED:20220404T094145Z
UID:4926-1650049200-1650052800@agrupacioparroquialmollerussa.cat
SUMMARY:Divendres Sant - Passió del Senyor
DESCRIPTION:
URL:https://agrupacioparroquialmollerussa.cat/calendari/divendres-sant-passio-del-senyor-8/
LOCATION:Vila-sana
CATEGORIES:Celebracions,Vila-sana
END:VEVENT
BEGIN:VEVENT
DTSTART;TZID=UTC:20220415T190000
DTEND;TZID=UTC:20220415T200000
DTSTAMP:20260423T211731
CREATED:20220404T093901Z
LAST-MODIFIED:20220404T102407Z
UID:4920-1650049200-1650052800@agrupacioparroquialmollerussa.cat
SUMMARY:Divendres Sant - Passió del Senyor - Parròquia
DESCRIPTION:
URL:https://agrupacioparroquialmollerussa.cat/calendari/divendres-sant-passio-del-senyor-6/
LOCATION:Mollerussa
CATEGORIES:Celebracions,Mollerussa
END:VEVENT
BEGIN:VEVENT
DTSTART;TZID=UTC:20220415T190000
DTEND;TZID=UTC:20220415T200000
DTSTAMP:20260423T211731
CREATED:20220404T092909Z
LAST-MODIFIED:20220404T092909Z
UID:4906-1650049200-1650052800@agrupacioparroquialmollerussa.cat
SUMMARY:Divendres Sant - Passió del Senyor
DESCRIPTION:
URL:https://agrupacioparroquialmollerussa.cat/calendari/divendres-sant-passio-del-senyor/
LOCATION:El Palau
CATEGORIES:Celebracions,El Palau d'Anglesola
END:VEVENT
BEGIN:VEVENT
DTSTART;TZID=UTC:20220415T180000
DTEND;TZID=UTC:20220415T190000
DTSTAMP:20260423T211731
CREATED:20220404T092957Z
LAST-MODIFIED:20220404T092957Z
UID:4908-1650045600-1650049200@agrupacioparroquialmollerussa.cat
SUMMARY:Divendres Sant - Passió del Senyor
DESCRIPTION:
URL:https://agrupacioparroquialmollerussa.cat/calendari/divendres-sant-passio-del-senyor-2/
LOCATION:Fondarella
CATEGORIES:Celebracions,Fondarella
END:VEVENT
BEGIN:VEVENT
DTSTART;TZID=UTC:20220415T173000
DTEND;TZID=UTC:20220415T180000
DTSTAMP:20260423T211731
CREATED:20220404T094100Z
LAST-MODIFIED:20220404T094100Z
UID:4924-1650043800-1650045600@agrupacioparroquialmollerussa.cat
SUMMARY:Divendres Sant - Passió del Senyor
DESCRIPTION:
URL:https://agrupacioparroquialmollerussa.cat/calendari/divendres-sant-passio-del-senyor-7/
LOCATION:Sidamon
CATEGORIES:Celebracions,Sidamon
END:VEVENT
END:VCALENDAR