BEGIN:VCALENDAR
VERSION:2.0
PRODID:-//Agrupació Parroquial Mollerussa - ECPv6.14.0//NONSGML v1.0//EN
CALSCALE:GREGORIAN
METHOD:PUBLISH
X-ORIGINAL-URL:https://agrupacioparroquialmollerussa.cat
X-WR-CALDESC:Esdeveniments per Agrupació Parroquial Mollerussa
REFRESH-INTERVAL;VALUE=DURATION:PT1H
X-Robots-Tag:noindex
X-PUBLISHED-TTL:PT1H
BEGIN:VTIMEZONE
TZID:UTC
BEGIN:STANDARD
TZOFFSETFROM:+0000
TZOFFSETTO:+0000
TZNAME:UTC
DTSTART:20200101T000000
END:STANDARD
END:VTIMEZONE
BEGIN:VEVENT
DTSTART;VALUE=DATE:20210427
DTEND;VALUE=DATE:20210428
DTSTAMP:20260424T072057
CREATED:20201020T154207Z
LAST-MODIFIED:20201112T112305Z
UID:868-1619481600-1619567999@agrupacioparroquialmollerussa.cat
SUMMARY:Missa i ofrena floral a la Mare de Déu de Montserrat
DESCRIPTION:
URL:https://agrupacioparroquialmollerussa.cat/calendari/missa-i-ofrena-floral-a-la-mare-de-deu-de-montserrat/
CATEGORIES:Miralcamp,Mollerussa
END:VEVENT
BEGIN:VEVENT
DTSTART;VALUE=DATE:20210425
DTEND;VALUE=DATE:20210426
DTSTAMP:20260424T072057
CREATED:20201020T154131Z
LAST-MODIFIED:20201112T112305Z
UID:866-1619308800-1619395199@agrupacioparroquialmollerussa.cat
SUMMARY:Festa de la Mare de Déu de la Cabeza
DESCRIPTION:
URL:https://agrupacioparroquialmollerussa.cat/calendari/festa-de-la-mare-de-deu-de-la-cabeza/
LOCATION:Vila-sana
CATEGORIES:Vila-sana
END:VEVENT
BEGIN:VEVENT
DTSTART;VALUE=DATE:20210413
DTEND;VALUE=DATE:20210414
DTSTAMP:20260424T072057
CREATED:20201020T154110Z
LAST-MODIFIED:20201112T112305Z
UID:864-1618272000-1618358399@agrupacioparroquialmollerussa.cat
SUMMARY:Festa votada en honor de Sant Sebastià. Missa i Processó
DESCRIPTION:
URL:https://agrupacioparroquialmollerussa.cat/calendari/festa-votada-en-honor-de-sant-sebastia-missa-i-processo/
LOCATION:Miralcamp
CATEGORIES:Miralcamp
END:VEVENT
BEGIN:VEVENT
DTSTART;VALUE=DATE:20210407
DTEND;VALUE=DATE:20210408
DTSTAMP:20260424T072057
CREATED:20201020T154052Z
LAST-MODIFIED:20201112T112305Z
UID:862-1617753600-1617839999@agrupacioparroquialmollerussa.cat
SUMMARY:Sant Joan Baptista de la Salle\, fundador dels germans de l’Escoles Cristianes
DESCRIPTION:
URL:https://agrupacioparroquialmollerussa.cat/calendari/sant-joan-baptista-de-la-salle-fundador-dels-germans-de-lescoles-cristianes/
LOCATION:Mollerussa
CATEGORIES:Mollerussa
END:VEVENT
BEGIN:VEVENT
DTSTART;VALUE=DATE:20210406
DTEND;VALUE=DATE:20210411
DTSTAMP:20260424T072057
CREATED:20201020T154033Z
LAST-MODIFIED:20201112T112305Z
UID:860-1617667200-1618099199@agrupacioparroquialmollerussa.cat
SUMMARY:Setmana de Sant Isidori
DESCRIPTION:
URL:https://agrupacioparroquialmollerussa.cat/calendari/setmana-de-sant-isidori/
LOCATION:Mollerussa
CATEGORIES:Mollerussa
END:VEVENT
BEGIN:VEVENT
DTSTART;VALUE=DATE:20210404
DTEND;VALUE=DATE:20210405
DTSTAMP:20260424T072057
CREATED:20201020T154005Z
LAST-MODIFIED:20201112T112305Z
UID:858-1617494400-1617580799@agrupacioparroquialmollerussa.cat
SUMMARY:Diumenge de Pasqua de Resurrecció
DESCRIPTION:
URL:https://agrupacioparroquialmollerussa.cat/calendari/diumenge-de-pasqua-de-resurreccio/
CATEGORIES:Celebracions,El Palau d'Anglesola,Fondarella,Golmés,Miralcamp,Mollerussa,Sidamon,Vila-sana
END:VEVENT
BEGIN:VEVENT
DTSTART;TZID=UTC:20210227T170000
DTEND;TZID=UTC:20210227T200000
DTSTAMP:20260424T072057
CREATED:20210223T153412Z
LAST-MODIFIED:20210223T153412Z
UID:1708-1614445200-1614456000@agrupacioparroquialmollerussa.cat
SUMMARY:Recés de Quaresma\, Capella del Col·legi del Carme
DESCRIPTION:
URL:https://agrupacioparroquialmollerussa.cat/calendari/reces-de-quaresma-capella-del-collegi-del-carme/
LOCATION:Mollerussa
CATEGORIES:Agrupació Parroquial
END:VEVENT
BEGIN:VEVENT
DTSTART;VALUE=DATE:20210221
DTEND;VALUE=DATE:20210222
DTSTAMP:20260424T072057
CREATED:20201020T153911Z
LAST-MODIFIED:20201112T112305Z
UID:854-1613865600-1613951999@agrupacioparroquialmollerussa.cat
SUMMARY:Primer Diumenge de Quaresma
DESCRIPTION:
URL:https://agrupacioparroquialmollerussa.cat/calendari/primer-diumenge-de-quaresma/
CATEGORIES:Agrupació Parroquial,El Palau d'Anglesola,Fondarella,Golmés,Miralcamp,Mollerussa,Sidamon,Vila-sana
END:VEVENT
BEGIN:VEVENT
DTSTART;VALUE=DATE:20210217
DTEND;VALUE=DATE:20210218
DTSTAMP:20260424T072057
CREATED:20201020T153743Z
LAST-MODIFIED:20201112T112305Z
UID:852-1613520000-1613606399@agrupacioparroquialmollerussa.cat
SUMMARY:Dimecres de Cendra
DESCRIPTION:
URL:https://agrupacioparroquialmollerussa.cat/calendari/dimecres-de-cendra/
CATEGORIES:Agrupació Parroquial,El Palau d'Anglesola,Fondarella,Golmés,Miralcamp,Mollerussa,Sidamon,Vila-sana
END:VEVENT
BEGIN:VEVENT
DTSTART;TZID=UTC:20210207T103000
DTEND;TZID=UTC:20210207T113000
DTSTAMP:20260424T072057
CREATED:20210127T160347Z
LAST-MODIFIED:20210127T160353Z
UID:1670-1612693800-1612697400@agrupacioparroquialmollerussa.cat
SUMMARY:Vila-sana\, celebració de la Missa de la Presentació del Senyor i de Sant Blai\, benediccio Candeles i fruits
DESCRIPTION:
URL:https://agrupacioparroquialmollerussa.cat/calendari/vila-sana-celebracio-de-la-missa-de-la-presentacio-del-senyor-i-de-sant-blai-benediccio-candeles-i-fruits/
LOCATION:Vila-sana
CATEGORIES:Vila-sana
END:VEVENT
BEGIN:VEVENT
DTSTART;TZID=UTC:20210206T190000
DTEND;TZID=UTC:20210206T200000
DTSTAMP:20260424T072057
CREATED:20210127T155338Z
LAST-MODIFIED:20210127T155338Z
UID:1668-1612638000-1612641600@agrupacioparroquialmollerussa.cat
SUMMARY:Golmes\, celebració de la Presentació del Senyor i de Sant Blai
DESCRIPTION:Missa amb la benedicció de les Candeles i dels fruits
URL:https://agrupacioparroquialmollerussa.cat/calendari/golmes-celebracio-de-la-presentacio-del-senyor-i-de-sant-blai/
LOCATION:Golmés
CATEGORIES:Golmés
END:VEVENT
BEGIN:VEVENT
DTSTART;TZID=UTC:20210204T100000
DTEND;TZID=UTC:20210204T110000
DTSTAMP:20260424T072057
CREATED:20210127T155141Z
LAST-MODIFIED:20210127T155902Z
UID:1666-1612432800-1612436400@agrupacioparroquialmollerussa.cat
SUMMARY:Miralcamp Festa de Sant Blai
DESCRIPTION:Missa a les 10 del mati\, amb la bendedicció dels fruits
URL:https://agrupacioparroquialmollerussa.cat/calendari/miralcamp-festa-de-sant-blai/
LOCATION:Miralcamp
CATEGORIES:Miralcamp
END:VEVENT
BEGIN:VEVENT
DTSTART;TZID=UTC:20210203T120000
DTEND;TZID=UTC:20210203T130000
DTSTAMP:20260424T072057
CREATED:20210127T154922Z
LAST-MODIFIED:20210127T155732Z
UID:1664-1612353600-1612357200@agrupacioparroquialmollerussa.cat
SUMMARY:Sidamon Festa Major d'Hivern en honor de Sant Blai
DESCRIPTION:Missa amb la benedicció dels fruits i de les Candeles
URL:https://agrupacioparroquialmollerussa.cat/calendari/sidamon-festa-major-dhivern-en-honor-de-sant-blai/
LOCATION:Sidamon
CATEGORIES:Sidamon
END:VEVENT
BEGIN:VEVENT
DTSTART;TZID=UTC:20210203T120000
DTEND;TZID=UTC:20210203T130000
DTSTAMP:20260424T072057
CREATED:20201020T153708Z
LAST-MODIFIED:20210127T155627Z
UID:850-1612353600-1612357200@agrupacioparroquialmollerussa.cat
SUMMARY:Festa Major petita en honor de Sant Blai
DESCRIPTION:Celebració de la Festa de la Presentació del Senyor amb benedicció de les candeles i dels fruits.
URL:https://agrupacioparroquialmollerussa.cat/calendari/festa-major-petita-en-honor-de-sant-blai/
LOCATION:El Palau
CATEGORIES:El Palau d'Anglesola
END:VEVENT
BEGIN:VEVENT
DTSTART;VALUE=DATE:20210203
DTEND;VALUE=DATE:20210204
DTSTAMP:20260424T072057
CREATED:20210127T154624Z
LAST-MODIFIED:20210127T160655Z
UID:1662-1612310400-1612396799@agrupacioparroquialmollerussa.cat
SUMMARY:Festa de Sant Blai
DESCRIPTION:MOLLERUSSA: Missa i Benedicció dels Fruits al Convent de Clausura\, a 2/4 de nou del mati. A l’església del Carme a 2/4 de 8 de la tarda
URL:https://agrupacioparroquialmollerussa.cat/calendari/festa-de-sant-blai/
LOCATION:Mollerussa
CATEGORIES:Mollerussa
END:VEVENT
BEGIN:VEVENT
DTSTART;VALUE=DATE:20210202
DTEND;VALUE=DATE:20210203
DTSTAMP:20260424T072057
CREATED:20201020T153646Z
LAST-MODIFIED:20210127T154210Z
UID:848-1612224000-1612310399@agrupacioparroquialmollerussa.cat
SUMMARY:Festa de la Presentació del Senyor\, Candelera
DESCRIPTION:MOLLERUSSA:  Missa i Benedicció de les Candeles a 2/4 de 9 del amti al Convent de Clausura; i a l’esgléssia del Carme a 2/4 de 8 de la tarda. \nMIRALCAMP: Celebració a les 10 del mati\, amb la benedicció de les Candeles.
URL:https://agrupacioparroquialmollerussa.cat/calendari/candelera-i-benediccio-dels-fruits/
CATEGORIES:Agrupació Parroquial,El Palau d'Anglesola,Fondarella,Golmés,Miralcamp,Mollerussa,Sidamon,Vila-sana
END:VEVENT
BEGIN:VEVENT
DTSTART;TZID=UTC:20210120T110000
DTEND;TZID=UTC:20210120T120000
DTSTAMP:20260424T072057
CREATED:20201020T153541Z
LAST-MODIFIED:20210112T173516Z
UID:844-1611140400-1611144000@agrupacioparroquialmollerussa.cat
SUMMARY:Missa en honor de Sant Sebastià
DESCRIPTION:
URL:https://agrupacioparroquialmollerussa.cat/calendari/festa-major-en-honor-de-sant-sebastia/
LOCATION:Miralcamp
CATEGORIES:Miralcamp
END:VEVENT
BEGIN:VEVENT
DTSTART;VALUE=DATE:20210120
DTEND;VALUE=DATE:20210121
DTSTAMP:20260424T072057
CREATED:20201020T153611Z
LAST-MODIFIED:20201112T112306Z
UID:846-1611100800-1611187199@agrupacioparroquialmollerussa.cat
SUMMARY:Festa Major d’hivern en honor de Sant Sebastià
DESCRIPTION:
URL:https://agrupacioparroquialmollerussa.cat/calendari/festa-major-dhivern-en-honor-de-sant-sebastia/
LOCATION:Fondarella
CATEGORIES:Fondarella
END:VEVENT
BEGIN:VEVENT
DTSTART;TZID=UTC:20210116T080000
DTEND;TZID=UTC:20210117T170000
DTSTAMP:20260424T072057
CREATED:20201127T164434Z
LAST-MODIFIED:20201127T164434Z
UID:1417-1610784000-1610902800@agrupacioparroquialmollerussa.cat
SUMMARY:Festa Major en honor de Sant Sebastià
DESCRIPTION:
URL:https://agrupacioparroquialmollerussa.cat/calendari/festa-major-en-honor-de-sant-sebastia-2/
CATEGORIES:Celebracions,Miralcamp
END:VEVENT
BEGIN:VEVENT
DTSTART;VALUE=DATE:20210110
DTEND;VALUE=DATE:20210111
DTSTAMP:20260424T072057
CREATED:20201020T153140Z
LAST-MODIFIED:20201215T182214Z
UID:842-1610236800-1610323199@agrupacioparroquialmollerussa.cat
SUMMARY:Festa del Baptisme del Senyor.  Celebració de l’aniversari dels batejats l’any 2020.
DESCRIPTION:
URL:https://agrupacioparroquialmollerussa.cat/calendari/festa-del-baptisme-del-senyor-celebracio-de-laniversari-dels-batejats-lany-2020/
CATEGORIES:Agrupació Parroquial,El Palau d'Anglesola,Fondarella,Golmés,Miralcamp,Mollerussa,Sidamon,Vila-sana
END:VEVENT
BEGIN:VEVENT
DTSTART;TZID=UTC:20210101T120000
DTEND;TZID=UTC:20210101T130000
DTSTAMP:20260424T072057
CREATED:20201214T170452Z
LAST-MODIFIED:20201214T171341Z
UID:1546-1609502400-1609506000@agrupacioparroquialmollerussa.cat
SUMMARY:Santa Maria\, Mare de Déu\, (cap d'any) Golmés
DESCRIPTION:
URL:https://agrupacioparroquialmollerussa.cat/calendari/missa-cap-dany-golmes/
LOCATION:Golmés
END:VEVENT
BEGIN:VEVENT
DTSTART;VALUE=DATE:20210101
DTEND;VALUE=DATE:20210102
DTSTAMP:20260424T072057
CREATED:20201214T171456Z
LAST-MODIFIED:20201214T172227Z
UID:1552-1609459200-1609545599@agrupacioparroquialmollerussa.cat
SUMMARY:Santa Maria\, Mare de Déu\, (cap d'any)
DESCRIPTION:Horari de Misses com els festius
URL:https://agrupacioparroquialmollerussa.cat/calendari/santa-maria-mare-de-deu-cap-dany/
END:VEVENT
BEGIN:VEVENT
DTSTART;VALUE=DATE:20201227
DTEND;VALUE=DATE:20201228
DTSTAMP:20260424T072057
CREATED:20201020T155520Z
LAST-MODIFIED:20201204T180713Z
UID:927-1609027200-1609113599@agrupacioparroquialmollerussa.cat
SUMMARY:Festa de la Sagrada Família: celebració de les noces d’or\, argent i aniversari de casament
DESCRIPTION:
URL:https://agrupacioparroquialmollerussa.cat/calendari/festa-de-la-sagrada-familia-celebracio-de-les-noces-dor-argent-i-aniversari-de-casament/
CATEGORIES:Celebracions,El Palau d'Anglesola,Fondarella,Golmés,Miralcamp,Mollerussa,Sidamon,Vila-sana
END:VEVENT
BEGIN:VEVENT
DTSTART;VALUE=DATE:20201226
DTEND;VALUE=DATE:20201227
DTSTAMP:20260424T072057
CREATED:20201125T093248Z
LAST-MODIFIED:20201214T165952Z
UID:1401-1608940800-1609027199@agrupacioparroquialmollerussa.cat
SUMMARY:Sant Esteve\, protomartir
DESCRIPTION:Horaris de Misses com les vigilies
URL:https://agrupacioparroquialmollerussa.cat/calendari/sant-esteve-protomartir/
CATEGORIES:Agrupació Parroquial,Celebracions
END:VEVENT
BEGIN:VEVENT
DTSTART;VALUE=DATE:20201225
DTEND;VALUE=DATE:20201226
DTSTAMP:20260424T072057
CREATED:20201125T093044Z
LAST-MODIFIED:20201214T170258Z
UID:1399-1608854400-1608940799@agrupacioparroquialmollerussa.cat
SUMMARY:Nadal del Senyor
DESCRIPTION:Horaris de Misses com els festius\, tret de Fondarella i Sidamon que no hi haurà Missa
URL:https://agrupacioparroquialmollerussa.cat/calendari/nadal-del-senyor/
CATEGORIES:Agrupació Parroquial,Celebracions
END:VEVENT
BEGIN:VEVENT
DTSTART;TZID=UTC:20201224T200000
DTEND;TZID=UTC:20201224T233000
DTSTAMP:20260424T072057
CREATED:20201214T163925Z
LAST-MODIFIED:20201214T164233Z
UID:1531-1608840000-1608852600@agrupacioparroquialmollerussa.cat
SUMMARY:Missa del Gall
DESCRIPTION:Mollerussa 8 del vespre   –   Sidamon 8 del vespre   –   Golmés 8 del vespre   –   Palau 10 de la nit.
URL:https://agrupacioparroquialmollerussa.cat/calendari/missa-del-gall/
END:VEVENT
BEGIN:VEVENT
DTSTART;TZID=UTC:20201222T193000
DTEND;TZID=UTC:20201222T203000
DTSTAMP:20260424T072057
CREATED:20201214T163225Z
LAST-MODIFIED:20201223T160545Z
UID:1529-1608665400-1608669000@agrupacioparroquialmollerussa.cat
SUMMARY:Celebració de la Penitencia\, Mollerussa
DESCRIPTION:Capella Esglèsia Col·legi del Carme
URL:https://agrupacioparroquialmollerussa.cat/calendari/celebracio-de-la-penitencia-mollerussa/
LOCATION:Mollerussa
END:VEVENT
BEGIN:VEVENT
DTSTART;TZID=UTC:20201220T120000
DTEND;TZID=UTC:20201220T130000
DTSTAMP:20260424T072057
CREATED:20201214T164648Z
LAST-MODIFIED:20201214T165144Z
UID:1538-1608465600-1608469200@agrupacioparroquialmollerussa.cat
SUMMARY:Celebració de la Penitencia\, Sidamon
DESCRIPTION:
URL:https://agrupacioparroquialmollerussa.cat/calendari/celebracio-de-la-penitencia-sidamon/
LOCATION:Sidamon
END:VEVENT
BEGIN:VEVENT
DTSTART;TZID=UTC:20201220T113000
DTEND;TZID=UTC:20201220T120000
DTSTAMP:20260424T072057
CREATED:20201211T160907Z
LAST-MODIFIED:20201211T160907Z
UID:1516-1608463800-1608465600@agrupacioparroquialmollerussa.cat
SUMMARY:Celebració de la Penitencia\, El Palau
DESCRIPTION:
URL:https://agrupacioparroquialmollerussa.cat/calendari/celebracio-de-la-penitencia-el-palau/
LOCATION:El Palau
END:VEVENT
BEGIN:VEVENT
DTSTART;TZID=UTC:20201220T100000
DTEND;TZID=UTC:20201220T140000
DTSTAMP:20260424T072057
CREATED:20201209T170133Z
LAST-MODIFIED:20201209T170133Z
UID:1495-1608458400-1608472800@agrupacioparroquialmollerussa.cat
SUMMARY:Participació de la Catequesi a la Marató pel Covid 19
DESCRIPTION:Es muntarà una paradeta on farem “cagar el tió”. Estarà davant la rectoria\, pl. Manel Bertrand\, número 12
URL:https://agrupacioparroquialmollerussa.cat/calendari/participacio-de-la-catequesi-a-la-marato-pel-covid-19/
LOCATION:Mollerussa
CATEGORIES:Mollerussa
END:VEVENT
END:VCALENDAR