BEGIN:VCALENDAR
VERSION:2.0
PRODID:-//Agrupació Parroquial Mollerussa - ECPv6.14.0//NONSGML v1.0//EN
CALSCALE:GREGORIAN
METHOD:PUBLISH
X-ORIGINAL-URL:https://agrupacioparroquialmollerussa.cat
X-WR-CALDESC:Esdeveniments per Agrupació Parroquial Mollerussa
REFRESH-INTERVAL;VALUE=DURATION:PT1H
X-Robots-Tag:noindex
X-PUBLISHED-TTL:PT1H
BEGIN:VTIMEZONE
TZID:UTC
BEGIN:STANDARD
TZOFFSETFROM:+0000
TZOFFSETTO:+0000
TZNAME:UTC
DTSTART:20210101T000000
END:STANDARD
END:VTIMEZONE
BEGIN:VEVENT
DTSTART;VALUE=DATE:20210806
DTEND;VALUE=DATE:20210807
DTSTAMP:20260424T235919
CREATED:20201020T154707Z
LAST-MODIFIED:20201112T112303Z
UID:893-1628208000-1628294399@agrupacioparroquialmollerussa.cat
SUMMARY:Festa Major en honor de Sant Salvador
DESCRIPTION:
URL:https://agrupacioparroquialmollerussa.cat/calendari/festa-major-en-honor-de-sant-salvador/
CATEGORIES:Celebracions,El Palau d'Anglesola,Fondarella,Golmés,Miralcamp,Mollerussa,Sidamon,Vila-sana
END:VEVENT
BEGIN:VEVENT
DTSTART;VALUE=DATE:20210812
DTEND;VALUE=DATE:20210813
DTSTAMP:20260424T235919
CREATED:20201020T154731Z
LAST-MODIFIED:20201112T112303Z
UID:895-1628726400-1628812799@agrupacioparroquialmollerussa.cat
SUMMARY:Memòria del Beat Lluís Escalé
DESCRIPTION:
URL:https://agrupacioparroquialmollerussa.cat/calendari/memoria-del-beat-lluis-escale/
LOCATION:Fondarella
CATEGORIES:Fondarella
END:VEVENT
BEGIN:VEVENT
DTSTART;VALUE=DATE:20210813
DTEND;VALUE=DATE:20210814
DTSTAMP:20260424T235919
CREATED:20201020T154930Z
LAST-MODIFIED:20201112T112303Z
UID:897-1628812800-1628899199@agrupacioparroquialmollerussa.cat
SUMMARY:Memòria del Beat Antoni Dalmau
DESCRIPTION:
URL:https://agrupacioparroquialmollerussa.cat/calendari/memoria-del-beat-antoni-dalmau/
LOCATION:Miralcamp
CATEGORIES:Miralcamp
END:VEVENT
BEGIN:VEVENT
DTSTART;VALUE=DATE:20210824
DTEND;VALUE=DATE:20210825
DTSTAMP:20260424T235919
CREATED:20201020T155014Z
LAST-MODIFIED:20201112T112303Z
UID:901-1629763200-1629849599@agrupacioparroquialmollerussa.cat
SUMMARY:Festa Major en honor de Sant Bartomeu
DESCRIPTION:
URL:https://agrupacioparroquialmollerussa.cat/calendari/festa-major-en-honor-de-sant-bartomeu/
LOCATION:Sidamon
CATEGORIES:Sidamon
END:VEVENT
BEGIN:VEVENT
DTSTART;VALUE=DATE:20210828
DTEND;VALUE=DATE:20210831
DTSTAMP:20260424T235919
CREATED:20201020T155037Z
LAST-MODIFIED:20201127T164154Z
UID:903-1630108800-1630367999@agrupacioparroquialmollerussa.cat
SUMMARY:Festa Major en honor de Sant Ramon
DESCRIPTION:
URL:https://agrupacioparroquialmollerussa.cat/calendari/festa-major-en-honor-de-sant-ramon/
LOCATION:Miralcamp
CATEGORIES:Miralcamp
END:VEVENT
BEGIN:VEVENT
DTSTART;VALUE=DATE:20210829
DTEND;VALUE=DATE:20210830
DTSTAMP:20260424T235919
CREATED:20201020T155059Z
LAST-MODIFIED:20201112T112303Z
UID:905-1630195200-1630281599@agrupacioparroquialmollerussa.cat
SUMMARY:Festa Major en honor del martiri de Sant Joan Baptista
DESCRIPTION:
URL:https://agrupacioparroquialmollerussa.cat/calendari/festa-major-en-honor-del-martiri-de-sant-joan-baptista/
LOCATION:El Palau
CATEGORIES:El Palau d'Anglesola
END:VEVENT
END:VCALENDAR