BEGIN:VCALENDAR
VERSION:2.0
PRODID:-//Agrupació Parroquial Mollerussa - ECPv6.14.0//NONSGML v1.0//EN
CALSCALE:GREGORIAN
METHOD:PUBLISH
X-ORIGINAL-URL:https://agrupacioparroquialmollerussa.cat
X-WR-CALDESC:Esdeveniments per Agrupació Parroquial Mollerussa
REFRESH-INTERVAL;VALUE=DURATION:PT1H
X-Robots-Tag:noindex
X-PUBLISHED-TTL:PT1H
BEGIN:VTIMEZONE
TZID:UTC
BEGIN:STANDARD
TZOFFSETFROM:+0000
TZOFFSETTO:+0000
TZNAME:UTC
DTSTART:20240101T000000
END:STANDARD
END:VTIMEZONE
BEGIN:VEVENT
DTSTART;TZID=UTC:20240806T113000
DTEND;TZID=UTC:20240806T133000
DTSTAMP:20260421T040606
CREATED:20240710T155626Z
LAST-MODIFIED:20240710T155626Z
UID:8874-1722943800-1722951000@agrupacioparroquialmollerussa.cat
SUMMARY:Golmés\, Festa Major
DESCRIPTION:
URL:https://agrupacioparroquialmollerussa.cat/calendari/golmes-festa-major/
LOCATION:Golmés
CATEGORIES:Celebracions,Golmés
END:VEVENT
BEGIN:VEVENT
DTSTART;TZID=UTC:20240814T083000
DTEND;TZID=UTC:20240814T093000
DTSTAMP:20260421T040606
CREATED:20240710T154635Z
LAST-MODIFIED:20240710T154635Z
UID:8856-1723624200-1723627800@agrupacioparroquialmollerussa.cat
SUMMARY:Mollerussa\, Clausura Vigilia Mare de Déu
DESCRIPTION:
URL:https://agrupacioparroquialmollerussa.cat/calendari/mollerussa-clausura-vigilia-mare-de-deu/
LOCATION:Mollerussa
CATEGORIES:Celebracions,Mollerussa
END:VEVENT
BEGIN:VEVENT
DTSTART;TZID=UTC:20240814T180000
DTEND;TZID=UTC:20240814T190000
DTSTAMP:20260421T040606
CREATED:20240710T154742Z
LAST-MODIFIED:20240710T160608Z
UID:8858-1723658400-1723662000@agrupacioparroquialmollerussa.cat
SUMMARY:Fondarella\, Vigilia Mare de Déu
DESCRIPTION:
URL:https://agrupacioparroquialmollerussa.cat/calendari/fondarella-vigilia-mare-de-deu/
LOCATION:Fondarella
CATEGORIES:Celebracions,Fondarella
END:VEVENT
BEGIN:VEVENT
DTSTART;TZID=UTC:20240814T200000
DTEND;TZID=UTC:20240814T210000
DTSTAMP:20260421T040606
CREATED:20240710T154835Z
LAST-MODIFIED:20240710T160547Z
UID:8860-1723665600-1723669200@agrupacioparroquialmollerussa.cat
SUMMARY:Mollerussa\, El Carme\, Vigilia Mare de Déu
DESCRIPTION:
URL:https://agrupacioparroquialmollerussa.cat/calendari/mollerussa-el-carme-vigilia-mare-de-deu/
LOCATION:Mollerussa
CATEGORIES:Celebracions,Mollerussa
END:VEVENT
BEGIN:VEVENT
DTSTART;TZID=UTC:20240815T093000
DTEND;TZID=UTC:20240815T103000
DTSTAMP:20260421T040606
CREATED:20240710T155011Z
LAST-MODIFIED:20240710T160503Z
UID:8862-1723714200-1723717800@agrupacioparroquialmollerussa.cat
SUMMARY:Mollerussa\, Clausura\, Mare de Déu
DESCRIPTION:
URL:https://agrupacioparroquialmollerussa.cat/calendari/mollerussa-clausura-mare-de-deu/
LOCATION:Mollerussa
CATEGORIES:Celebracions,Mollerussa
END:VEVENT
BEGIN:VEVENT
DTSTART;TZID=UTC:20240815T103000
DTEND;TZID=UTC:20240815T113000
DTSTAMP:20260421T040606
CREATED:20240710T155118Z
LAST-MODIFIED:20240710T160445Z
UID:8864-1723717800-1723721400@agrupacioparroquialmollerussa.cat
SUMMARY:Miralcamp\, Mare de Déu
DESCRIPTION:
URL:https://agrupacioparroquialmollerussa.cat/calendari/miralcamp-mare-de-deu/
LOCATION:Miralcamp
CATEGORIES:Celebracions,Miralcamp
END:VEVENT
BEGIN:VEVENT
DTSTART;TZID=UTC:20240815T103000
DTEND;TZID=UTC:20240815T113000
DTSTAMP:20260421T040606
CREATED:20240710T155206Z
LAST-MODIFIED:20240710T160410Z
UID:8866-1723717800-1723721400@agrupacioparroquialmollerussa.cat
SUMMARY:Vila-sana\, Mare de Déu
DESCRIPTION:
URL:https://agrupacioparroquialmollerussa.cat/calendari/vila-sana-mare-de-deu/
LOCATION:Vila-sana
CATEGORIES:Celebracions,Vila-sana
END:VEVENT
BEGIN:VEVENT
DTSTART;TZID=UTC:20240815T120000
DTEND;TZID=UTC:20240815T130000
DTSTAMP:20260421T040606
CREATED:20240710T155315Z
LAST-MODIFIED:20240710T160345Z
UID:8868-1723723200-1723726800@agrupacioparroquialmollerussa.cat
SUMMARY:El Palau d'Anglesola\, Mare de Déu
DESCRIPTION:
URL:https://agrupacioparroquialmollerussa.cat/calendari/el-palau-danglesola-mare-de-deu/
LOCATION:El Palau
CATEGORIES:Celebracions,El Palau d'Anglesola
END:VEVENT
BEGIN:VEVENT
DTSTART;TZID=UTC:20240815T120000
DTEND;TZID=UTC:20240815T130000
DTSTAMP:20260421T040606
CREATED:20240710T155425Z
LAST-MODIFIED:20240710T160313Z
UID:8870-1723723200-1723726800@agrupacioparroquialmollerussa.cat
SUMMARY:Mollerussa\, Parróquia\, Mare de Déu
DESCRIPTION:
URL:https://agrupacioparroquialmollerussa.cat/calendari/mollerussa-parroquia-mare-de-deu/
LOCATION:Mollerussa
CATEGORIES:Celebracions,Mollerussa
END:VEVENT
BEGIN:VEVENT
DTSTART;TZID=UTC:20240815T120000
DTEND;TZID=UTC:20240815T130000
DTSTAMP:20260421T040606
CREATED:20240710T155518Z
LAST-MODIFIED:20240710T155518Z
UID:8872-1723723200-1723726800@agrupacioparroquialmollerussa.cat
SUMMARY:Sidamon\, Mare de Déu
DESCRIPTION:
URL:https://agrupacioparroquialmollerussa.cat/calendari/sidamon-mare-de-deu/
LOCATION:Mollerussa
CATEGORIES:Celebracions,Mollerussa
END:VEVENT
BEGIN:VEVENT
DTSTART;TZID=UTC:20240816T201500
DTEND;TZID=UTC:20240816T213000
DTSTAMP:20260421T040606
CREATED:20240710T155800Z
LAST-MODIFIED:20240710T155800Z
UID:8876-1723839300-1723843800@agrupacioparroquialmollerussa.cat
SUMMARY:El Palau d'Anglesola\, Missa ermita Sant Roc
DESCRIPTION:
URL:https://agrupacioparroquialmollerussa.cat/calendari/el-palau-danglesola-missa-ermita-sant-roc/
LOCATION:El Palau
CATEGORIES:Celebracions,El Palau d'Anglesola
END:VEVENT
BEGIN:VEVENT
DTSTART;TZID=UTC:20240824T120000
DTEND;TZID=UTC:20240824T130000
DTSTAMP:20260421T040606
CREATED:20240710T155901Z
LAST-MODIFIED:20240710T155901Z
UID:8878-1724500800-1724504400@agrupacioparroquialmollerussa.cat
SUMMARY:Sidamon\, Festa Major
DESCRIPTION:
URL:https://agrupacioparroquialmollerussa.cat/calendari/sidamon-festa-major/
LOCATION:Sidamon
CATEGORIES:Celebracions,Sidamon
END:VEVENT
BEGIN:VEVENT
DTSTART;TZID=UTC:20240829T120000
DTEND;TZID=UTC:20240829T130000
DTSTAMP:20260421T040606
CREATED:20240710T160026Z
LAST-MODIFIED:20240710T160026Z
UID:8880-1724932800-1724936400@agrupacioparroquialmollerussa.cat
SUMMARY:Palau d'Anglesola\, Festa Major
DESCRIPTION:
URL:https://agrupacioparroquialmollerussa.cat/calendari/palau-danglesola-festa-major/
LOCATION:El Palau
CATEGORIES:Celebracions,El Palau d'Anglesola
END:VEVENT
END:VCALENDAR