BEGIN:VCALENDAR
VERSION:2.0
PRODID:-//Agrupació Parroquial Mollerussa - ECPv6.14.0//NONSGML v1.0//EN
CALSCALE:GREGORIAN
METHOD:PUBLISH
X-ORIGINAL-URL:https://agrupacioparroquialmollerussa.cat
X-WR-CALDESC:Esdeveniments per Agrupació Parroquial Mollerussa
REFRESH-INTERVAL;VALUE=DURATION:PT1H
X-Robots-Tag:noindex
X-PUBLISHED-TTL:PT1H
BEGIN:VTIMEZONE
TZID:UTC
BEGIN:STANDARD
TZOFFSETFROM:+0000
TZOFFSETTO:+0000
TZNAME:UTC
DTSTART:20240101T000000
END:STANDARD
END:VTIMEZONE
BEGIN:VEVENT
DTSTART;TZID=UTC:20240901T103000
DTEND;TZID=UTC:20240901T113000
DTSTAMP:20260421T024610
CREATED:20240710T160117Z
LAST-MODIFIED:20240710T160117Z
UID:8882-1725186600-1725190200@agrupacioparroquialmollerussa.cat
SUMMARY:Miralcamp\, Festa Major
DESCRIPTION:
URL:https://agrupacioparroquialmollerussa.cat/calendari/miralcamp-festa-major/
LOCATION:Miralcamp
CATEGORIES:Celebracions,Miralcamp
END:VEVENT
BEGIN:VEVENT
DTSTART;TZID=UTC:20240902T120000
DTEND;TZID=UTC:20240902T130000
DTSTAMP:20260421T024610
CREATED:20240710T160225Z
LAST-MODIFIED:20240710T160225Z
UID:8884-1725278400-1725282000@agrupacioparroquialmollerussa.cat
SUMMARY:Fondarella\, Festa Major
DESCRIPTION:
URL:https://agrupacioparroquialmollerussa.cat/calendari/fondarella-festa-major/
LOCATION:Fondarella
CATEGORIES:Celebracions,Fondarella
END:VEVENT
END:VCALENDAR