BEGIN:VCALENDAR
VERSION:2.0
PRODID:-//Agrupació Parroquial Mollerussa - ECPv6.14.0//NONSGML v1.0//EN
CALSCALE:GREGORIAN
METHOD:PUBLISH
X-ORIGINAL-URL:https://agrupacioparroquialmollerussa.cat
X-WR-CALDESC:Esdeveniments per Agrupació Parroquial Mollerussa
REFRESH-INTERVAL;VALUE=DURATION:PT1H
X-Robots-Tag:noindex
X-PUBLISHED-TTL:PT1H
BEGIN:VTIMEZONE
TZID:UTC
BEGIN:STANDARD
TZOFFSETFROM:+0000
TZOFFSETTO:+0000
TZNAME:UTC
DTSTART:20240101T000000
END:STANDARD
END:VTIMEZONE
BEGIN:VEVENT
DTSTART;TZID=UTC:20241101T130000
DTEND;TZID=UTC:20241101T133000
DTSTAMP:20260420T233147
CREATED:20241031T152302Z
LAST-MODIFIED:20241031T152615Z
UID:9166-1730466000-1730467800@agrupacioparroquialmollerussa.cat
SUMMARY:Golmés Pregaria pels difunts Cementiri
DESCRIPTION:
URL:https://agrupacioparroquialmollerussa.cat/calendari/miralcamp-pregaria-cementiri/
LOCATION:Golmés
CATEGORIES:Celebracions,Golmés
END:VEVENT
BEGIN:VEVENT
DTSTART;TZID=UTC:20241101T130000
DTEND;TZID=UTC:20241101T133000
DTSTAMP:20260420T233147
CREATED:20241031T152542Z
LAST-MODIFIED:20241031T152542Z
UID:9170-1730466000-1730467800@agrupacioparroquialmollerussa.cat
SUMMARY:Miralcamp Pregaria pels difunts Cementiri
DESCRIPTION:
URL:https://agrupacioparroquialmollerussa.cat/calendari/miralcamp-pregaria-pels-difunts-cementiri/
LOCATION:Miralcamp
CATEGORIES:Agrupació Parroquial,Miralcamp
END:VEVENT
BEGIN:VEVENT
DTSTART;TZID=UTC:20241102T110000
DTEND;TZID=UTC:20241102T130000
DTSTAMP:20260420T233147
CREATED:20241031T152720Z
LAST-MODIFIED:20241031T152720Z
UID:9173-1730545200-1730552400@agrupacioparroquialmollerussa.cat
SUMMARY:Mollerussa\, Missa pels difunts al Cementiri
DESCRIPTION:
URL:https://agrupacioparroquialmollerussa.cat/calendari/mollerussa-missa-pels-difunts-al-cementiri/
LOCATION:Mollerussa
CATEGORIES:Celebracions,Mollerussa
END:VEVENT
END:VCALENDAR